BEGIN:VCALENDAR
VERSION:2.0
PRODID:-//State College of Florida, Manatee - Sarasota - ECPv6.15.18//NONSGML v1.0//EN
CALSCALE:GREGORIAN
METHOD:PUBLISH
X-ORIGINAL-URL:https://www.scf.edu
X-WR-CALDESC:Events for State College of Florida, Manatee - Sarasota
REFRESH-INTERVAL;VALUE=DURATION:PT1H
X-Robots-Tag:noindex
X-PUBLISHED-TTL:PT1H
BEGIN:VTIMEZONE
TZID:America/New_York
BEGIN:DAYLIGHT
TZOFFSETFROM:-0500
TZOFFSETTO:-0400
TZNAME:EDT
DTSTART:20250309T070000
END:DAYLIGHT
BEGIN:STANDARD
TZOFFSETFROM:-0400
TZOFFSETTO:-0500
TZNAME:EST
DTSTART:20251102T060000
END:STANDARD
BEGIN:DAYLIGHT
TZOFFSETFROM:-0500
TZOFFSETTO:-0400
TZNAME:EDT
DTSTART:20260308T070000
END:DAYLIGHT
BEGIN:STANDARD
TZOFFSETFROM:-0400
TZOFFSETTO:-0500
TZNAME:EST
DTSTART:20261101T060000
END:STANDARD
BEGIN:DAYLIGHT
TZOFFSETFROM:-0500
TZOFFSETTO:-0400
TZNAME:EDT
DTSTART:20270314T070000
END:DAYLIGHT
BEGIN:STANDARD
TZOFFSETFROM:-0400
TZOFFSETTO:-0500
TZNAME:EST
DTSTART:20271107T060000
END:STANDARD
END:VTIMEZONE
BEGIN:VEVENT
DTSTART;TZID=America/New_York:20260427T190000
DTEND;TZID=America/New_York:20260427T203000
DTSTAMP:20260423T042520
CREATED:20251112T184254Z
LAST-MODIFIED:20251112T184254Z
UID:10000686-1777316400-1777321800@www.scf.edu
SUMMARY:SCF Music Presents Triunfo del Piano
DESCRIPTION:Presented by SCF Music \nMonday\, April 27th @ 7:00 p.m.\nSCF Bradenton Campus\, 5840 26th St. West\, SCF Recital Hall / 11A \n\nCelebrate the remarkable achievements of our dedicated piano students in this inspiring recital presented by the SCF piano faculty. Featuring a diverse range of performers—from music majors pursuing advanced study\, to elective students\, to community members enriching their lives through piano—this concert highlights talent and perseverance at every level. Join us for an uplifting evening showcasing the artistry and progress of our pianists\, from beginners to advanced musicians. In the spirit of giving\, we will also be collecting canned goods to support the SCF Food Bank. \nDonation of Two Canned Goods In lieu of Tickets \nFREE EVENT
URL:https://www.scf.edu/events/scf-music-presents-triunfo-del-piano/
LOCATION:Studio for the Performing Arts Recital Hall\, Bldg. 11A\, 5840 26th St. West\, Bldg. 11A\, Bradenton\, FL\, 34207\, United States
CATEGORIES:Music,Performing Arts
ATTACH;FMTTYPE=image/jpeg:https://www.scf.edu/wp-content/uploads/2025/11/Piano-Recital-Spring.jpg
END:VEVENT
END:VCALENDAR