BEGIN:VCALENDAR
VERSION:2.0
PRODID:-//State College of Florida, Manatee - Sarasota - ECPv6.15.18//NONSGML v1.0//EN
CALSCALE:GREGORIAN
METHOD:PUBLISH
X-ORIGINAL-URL:https://www.scf.edu
X-WR-CALDESC:Events for State College of Florida, Manatee - Sarasota
REFRESH-INTERVAL;VALUE=DURATION:PT1H
X-Robots-Tag:noindex
X-PUBLISHED-TTL:PT1H
BEGIN:VTIMEZONE
TZID:America/New_York
BEGIN:DAYLIGHT
TZOFFSETFROM:-0500
TZOFFSETTO:-0400
TZNAME:EDT
DTSTART:20250309T070000
END:DAYLIGHT
BEGIN:STANDARD
TZOFFSETFROM:-0400
TZOFFSETTO:-0500
TZNAME:EST
DTSTART:20251102T060000
END:STANDARD
BEGIN:DAYLIGHT
TZOFFSETFROM:-0500
TZOFFSETTO:-0400
TZNAME:EDT
DTSTART:20260308T070000
END:DAYLIGHT
BEGIN:STANDARD
TZOFFSETFROM:-0400
TZOFFSETTO:-0500
TZNAME:EST
DTSTART:20261101T060000
END:STANDARD
BEGIN:DAYLIGHT
TZOFFSETFROM:-0500
TZOFFSETTO:-0400
TZNAME:EDT
DTSTART:20270314T070000
END:DAYLIGHT
BEGIN:STANDARD
TZOFFSETFROM:-0400
TZOFFSETTO:-0500
TZNAME:EST
DTSTART:20271107T060000
END:STANDARD
END:VTIMEZONE
BEGIN:VEVENT
DTSTART;TZID=America/New_York:20260504T190000
DTEND;TZID=America/New_York:20260504T203000
DTSTAMP:20260423T041339
CREATED:20251112T184536Z
LAST-MODIFIED:20251112T184536Z
UID:10000687-1777921200-1777926600@www.scf.edu
SUMMARY:SCF Music Graduation Recital
DESCRIPTION:Presented by SCF Music \nMonday\, May 4th @ 7:00 p.m.\nSCF Bradenton Campus\, 5840 26th St. West\, SCF Recital Hall / 11A \n\nGraduating SCF Music students perform their finest solo music in this swan song celebration. These students have blossomed throughout their time at SCF and are now ready to spread their wings in the wider world. Come witness their final SCF concert and celebrate the results of their hard work and achievements. \nFREE EVENT
URL:https://www.scf.edu/events/scf-music-graduation-recital/
LOCATION:Studio for the Performing Arts Recital Hall\, Bldg. 11A\, 5840 26th St. West\, Bldg. 11A\, Bradenton\, FL\, 34207\, United States
CATEGORIES:Music,Performing Arts
ATTACH;FMTTYPE=image/jpeg:https://www.scf.edu/wp-content/uploads/2025/11/Graduation-Recital.jpg
END:VEVENT
END:VCALENDAR