BEGIN:VCALENDAR
VERSION:2.0
PRODID:-//State College of Florida, Manatee - Sarasota - ECPv6.15.18//NONSGML v1.0//EN
CALSCALE:GREGORIAN
METHOD:PUBLISH
X-WR-CALNAME:State College of Florida, Manatee - Sarasota
X-ORIGINAL-URL:https://www.scf.edu
X-WR-CALDESC:Events for State College of Florida, Manatee - Sarasota
REFRESH-INTERVAL;VALUE=DURATION:PT1H
X-Robots-Tag:noindex
X-PUBLISHED-TTL:PT1H
BEGIN:VTIMEZONE
TZID:America/New_York
BEGIN:DAYLIGHT
TZOFFSETFROM:-0500
TZOFFSETTO:-0400
TZNAME:EDT
DTSTART:20240310T070000
END:DAYLIGHT
BEGIN:STANDARD
TZOFFSETFROM:-0400
TZOFFSETTO:-0500
TZNAME:EST
DTSTART:20241103T060000
END:STANDARD
BEGIN:DAYLIGHT
TZOFFSETFROM:-0500
TZOFFSETTO:-0400
TZNAME:EDT
DTSTART:20250309T070000
END:DAYLIGHT
BEGIN:STANDARD
TZOFFSETFROM:-0400
TZOFFSETTO:-0500
TZNAME:EST
DTSTART:20251102T060000
END:STANDARD
BEGIN:DAYLIGHT
TZOFFSETFROM:-0500
TZOFFSETTO:-0400
TZNAME:EDT
DTSTART:20260308T070000
END:DAYLIGHT
BEGIN:STANDARD
TZOFFSETFROM:-0400
TZOFFSETTO:-0500
TZNAME:EST
DTSTART:20261101T060000
END:STANDARD
END:VTIMEZONE
BEGIN:VEVENT
DTSTART;TZID=America/New_York:20250114T130000
DTEND;TZID=America/New_York:20250114T130000
DTSTAMP:20260424T234541
CREATED:20250109T151557Z
LAST-MODIFIED:20250424T173331Z
UID:10000553-1736859600-1736859600@www.scf.edu
SUMMARY:Faculty Lecture Series: Building Bonds\, My Experience as a Guide Dog Puppy Raiser
DESCRIPTION:Presented by State College of Florida\, Manatee-Sarasota \nTuesday\, January 14th at 1 p.m.\nLive Session at SCF Venice Campus\, Library Cloud Lounge\, 8000 S Tamiami Trail\, Venice\, FL 34293 \nStreaming Session at SCF Bradenton Campus\, Library Community Room\, 5840 26th St W\, Bradenton\, FL 34207 \n\n Join Us for a Special Faculty Lecture Series Event! \n“Building Bonds: My Experience as a Guide Dog Puppy Raiser” \nProfessor Cook will share her heartwarming journey of raising service dogs and how it has impacted her life and the lives of others in need. \nHave questions? Reach out\n📩 CookS@scf.edu\n📞 941-408-1471 \n📷 Designed by SCF student Sean L. Conley. \nMark your calendar and be part of this inspiring session! 🦮✨
URL:https://www.scf.edu/events/faculty-lecture-series-building-bonds-my-experience-as-a-guide-dog-puppy-raiser/
LOCATION:SCF Venice Campus\, 8000 S. Tamiami Trail\, Venice\, FL\, 34293\, United States
CATEGORIES:Faculty Lecture Series
ATTACH;FMTTYPE=image/jpeg:https://www.scf.edu/wp-content/uploads/2025/01/scf-faculty-lecture-series-building-bonds-dr-stephanie-cook.jpg
ORGANIZER;CN="State College of Florida%2C Manatee - Sarasota":MAILTO:Info@SCF.edu
END:VEVENT
END:VCALENDAR