BEGIN:VCALENDAR
VERSION:2.0
PRODID:-//State College of Florida, Manatee - Sarasota - ECPv6.15.18//NONSGML v1.0//EN
CALSCALE:GREGORIAN
METHOD:PUBLISH
X-WR-CALNAME:State College of Florida, Manatee - Sarasota
X-ORIGINAL-URL:https://www.scf.edu
X-WR-CALDESC:Events for State College of Florida, Manatee - Sarasota
REFRESH-INTERVAL;VALUE=DURATION:PT1H
X-Robots-Tag:noindex
X-PUBLISHED-TTL:PT1H
BEGIN:VTIMEZONE
TZID:America/New_York
BEGIN:DAYLIGHT
TZOFFSETFROM:-0500
TZOFFSETTO:-0400
TZNAME:EDT
DTSTART:20240310T070000
END:DAYLIGHT
BEGIN:STANDARD
TZOFFSETFROM:-0400
TZOFFSETTO:-0500
TZNAME:EST
DTSTART:20241103T060000
END:STANDARD
BEGIN:DAYLIGHT
TZOFFSETFROM:-0500
TZOFFSETTO:-0400
TZNAME:EDT
DTSTART:20250309T070000
END:DAYLIGHT
BEGIN:STANDARD
TZOFFSETFROM:-0400
TZOFFSETTO:-0500
TZNAME:EST
DTSTART:20251102T060000
END:STANDARD
BEGIN:DAYLIGHT
TZOFFSETFROM:-0500
TZOFFSETTO:-0400
TZNAME:EDT
DTSTART:20260308T070000
END:DAYLIGHT
BEGIN:STANDARD
TZOFFSETFROM:-0400
TZOFFSETTO:-0500
TZNAME:EST
DTSTART:20261101T060000
END:STANDARD
END:VTIMEZONE
BEGIN:VEVENT
DTSTART;TZID=America/New_York:20250904T190000
DTEND;TZID=America/New_York:20250904T203000
DTSTAMP:20260424T203039
CREATED:20250821T181829Z
LAST-MODIFIED:20250821T184743Z
UID:10000638-1757012400-1757017800@www.scf.edu
SUMMARY:Inferno: SCF Music Faculty on Fire
DESCRIPTION:Thursday\, September 4th @ 7:00pm\nSCF Bradenton Campus\, 5840 26th St. West\, SCF Recital Hall / 11A\, Studio for the Performing Arts \n\nHotter than a Bradenton September\, the SCF music faculty bring their best solo pieces to the Studio for Performing Arts Recital Hall. \nWe light the concert season with a showcase of the best woodwind\, brass\, strings\, vocal\, and jazz flame throwing faculty in the region. \nYou’ve seen them in major orchestras and festival stages around the world. Hear the heat of SCF’s performing arts faculty. \nBuy Tickets \n 
URL:https://www.scf.edu/events/inferno/
LOCATION:Studio for the Performing Arts Recital Hall\, Bldg. 11A\, 5840 26th St. West\, Bldg. 11A\, Bradenton\, FL\, 34207\, United States
CATEGORIES:Music,Performing Arts
ATTACH;FMTTYPE=image/png:https://www.scf.edu/wp-content/uploads/2025/08/250904-Faculty-Recital-1080x1080-1.png
END:VEVENT
BEGIN:VEVENT
DTSTART;TZID=America/New_York:20250909T173000
DTEND;TZID=America/New_York:20250909T193000
DTSTAMP:20260424T203039
CREATED:20250818T130011Z
LAST-MODIFIED:20250821T183249Z
UID:10000631-1757439000-1757446200@www.scf.edu
SUMMARY:Hustle Bar: AI Marketing Made Easy: Smart Growth For Your Small Business
DESCRIPTION:Tuesday\, September 9th from 5:30pm – 7:30pm\nGreater Sarasota Chamber of Commerce\, 1945 Fruitville Road\, Sarasota \n\nThe Greater Sarasota Chamber of Commerce is partnering with State College of Florida’s 26 West Center to launch Hustle Bar\, a monthly workshop series dedicated to empowering the readiness and growth of our region’s entrepreneurs and startups. \nUnlock the power of AI to streamline your marketing and boost efficiency. This hands-on workshop demystifies AI’s role in small businesses and features live demos of the most popular AI software. Learn to generate compelling content\, create stunning visuals\, and enhance campaigns with AI-driven tools. Gain practical strategies to integrate AI into your marketing immediately and stay ahead of the competition. Whether you’re a beginner or looking to refine your skills\, this session will equip you with actionable takeaways to maximize your marketing potential. \nWho Should Attend:\nSmall business owners\, entrepreneurs\, marketing professionals\, web designers\, and anyone who wants to learn the best artificial intelligence apps to boost their marketing. \nRegister today and start leveraging AI to grow your business! \nBuy Tickets \nRebeca Lima is a business coach\, adjunct instructor\, and entrepreneur with extensive experience in entrepreneurship\, business strategy\, and marketing. As the founder of the Six Figure Society® and creator of the Vision Integration Method®\, she has worked with clients worldwide\, helping them build and scale profitable businesses. \nRebeca holds certifications from Harvard Business School Online\, Yale University\, and Robbins Madanes Training\, providing a strong foundation in leadership\, influence\, and business development. Her expertise in business coaching and strategic growth makes her a valuable resource for students looking to develop real-world\, results-driven skills.
URL:https://www.scf.edu/events/hustle-bar-ai-marketing-made-easy-smart-growth-for-your-small-business/
LOCATION:Greater Sarasota Chamber of Commerce\, 1945 Fruitville Road\, Sarasota\, FL\, 34236\, United States
ATTACH;FMTTYPE=image/png:https://www.scf.edu/wp-content/uploads/2025/08/Hustle-Bar-Featured.png
ORGANIZER;CN="Greater Sarasota Chamber of Commerce":MAILTO:communications@sarasotachamber.com
END:VEVENT
BEGIN:VEVENT
DTSTART;TZID=America/New_York:20250910T110000
DTEND;TZID=America/New_York:20250910T120000
DTSTAMP:20260424T203039
CREATED:20250812T193457Z
LAST-MODIFIED:20250812T194414Z
UID:10000630-1757502000-1757505600@www.scf.edu
SUMMARY:A.S. Nursing Information Sessions
DESCRIPTION:Presented by the State College of Florida\, Manatee-Sarasota \nWednesday\, September 10th @ 11:00 a.m. – 12:00 p.m.\nVirtual Information Session via Microsoft Teams \n\nInfo sessions are a great place to learn about SCF ASN Program and receive answers to your questions. Events will be listed as they are scheduled. Workshops are provided using Microsoft Teams. We recommend using Chrome or Firefox. You should be able to enter through your web browser. \nJOIN THE SESSION
URL:https://www.scf.edu/events/a-s-nursing-information-sessions-2/
LOCATION:Virtual Information Session via Microsoft Teams
CATEGORIES:A.S. Nursing Information Sessions
ATTACH;FMTTYPE=image/jpeg:https://www.scf.edu/wp-content/uploads/2024/12/DSC06612-2.jpg
ORGANIZER;CN="State College of Florida%2C Manatee - Sarasota":MAILTO:Info@SCF.edu
END:VEVENT
BEGIN:VEVENT
DTSTART;TZID=America/New_York:20250910T170000
DTEND;TZID=America/New_York:20250910T180000
DTSTAMP:20260424T203040
CREATED:20250818T131543Z
LAST-MODIFIED:20250818T131543Z
UID:10000634-1757523600-1757527200@www.scf.edu
SUMMARY:Teacher Certification Information Sessions
DESCRIPTION:Presented by the State College of Florida\, Manatee-Sarasota \nWednesday\, September 10\, 2025 @ 5:00 p.m. – 6:00 p.m.\nVirtual Information Session via Microsoft Teams \n\nInfo sessions are a great place to learn about SCF EPI Program and receive answers to your questions. Events will be listed as they are scheduled. Workshops are provided using Microsoft Teams. We recommend using Chrome or Firefox. You should be able to enter through your web browser. \nJOIN THE SESSION
URL:https://www.scf.edu/events/teacher-certification-information-sessions/
LOCATION:Virtual Information Session via Microsoft Teams
CATEGORIES:Teacher Certification Information Sessions
ATTACH;FMTTYPE=image/jpeg:https://www.scf.edu/wp-content/uploads/2024/09/teacher-certification-information-sessions-2.jpg
ORGANIZER;CN="State College of Florida%2C Manatee - Sarasota":MAILTO:Info@SCF.edu
END:VEVENT
BEGIN:VEVENT
DTSTART;TZID=America/New_York:20250911T100000
DTEND;TZID=America/New_York:20250911T110000
DTSTAMP:20260424T203040
CREATED:20250908T183733Z
LAST-MODIFIED:20250908T183733Z
UID:10000654-1757584800-1757588400@www.scf.edu
SUMMARY:B.S. Nursing Information Sessions
DESCRIPTION:Presented by the State College of Florida\, Manatee-Sarasota \nThursday\, September 11th @ 10:00 a.m. – 11:00 a.m.\nVirtual Information Session via Microsoft Teams \n\nInfo sessions are a great place to learn about SCF BSN Program and receive answers to your questions. Events will be listed as they are scheduled. Workshops are provided using Microsoft Teams. We recommend using Chrome or Firefox. You should be able to enter through your web browser. \nJOIN THE SESSION
URL:https://www.scf.edu/events/b-s-nursing-information-sessions/
LOCATION:Virtual Information Session via Microsoft Teams
CATEGORIES:B.S. Nursing Information Sessions
ATTACH;FMTTYPE=image/jpeg:https://www.scf.edu/wp-content/uploads/2024/12/DSC06612-2.jpg
ORGANIZER;CN="State College of Florida%2C Manatee - Sarasota":MAILTO:Info@SCF.edu
END:VEVENT
BEGIN:VEVENT
DTSTART;TZID=America/New_York:20250917T173000
DTEND;TZID=America/New_York:20250917T193000
DTSTAMP:20260424T203040
CREATED:20250818T124718Z
LAST-MODIFIED:20250818T125337Z
UID:10000633-1758130200-1758137400@www.scf.edu
SUMMARY:North Port Next: Business Planning Made Easy
DESCRIPTION:Wednesday\, September 17th @ 5:30pm\nSCF Venice\, Building 300\, Room 307 \n\nA solid business plan is the key to business success. Start with this essential\, interactive workshop to develop your market analysis\, financial projections\, and strategic planning to create a clear\, investor-ready roadmap. Walk away with the tools and confidence to turn your vision into a thriving business. \nRegister now and take the first step toward a clear\, investor-ready plan. \n  \n 
URL:https://www.scf.edu/events/north-port-next-business-planning-made-easy/
LOCATION:SCF Venice Library Auditorium\, Room 307\, 8000 S. Tamiami Trail Building 100\, Venice\, FL\, 34293\, United States
ATTACH;FMTTYPE=image/png:https://www.scf.edu/wp-content/uploads/2025/08/NorthPortNextBusinessPlanningMadeEasy.png
END:VEVENT
BEGIN:VEVENT
DTSTART;TZID=America/New_York:20250924T180000
DTEND;TZID=America/New_York:20250924T193000
DTSTAMP:20260424T203040
CREATED:20250918T185959Z
LAST-MODIFIED:20250919T191538Z
UID:10000660-1758736800-1758742200@www.scf.edu
SUMMARY:Early College Information Sessions
DESCRIPTION:Presented by the State College of Florida\, Manatee-Sarasota \nWednesday\, September 24th @ 6:00 p.m. – 7:30 p.m.\nBuilding 11A\, the Studio for the Performing Arts \n\nLearn how Early College can help you get ahead. Our information sessions provide details on the enrollment process and what to expect. Whether you’re a homeschool\, personalized education plan (PEP)\, public\, or private school student\, our team is here to guide you. RSVP to secure your spot. \nRegister Now!
URL:https://www.scf.edu/events/early-college-information-sessions/
LOCATION:Studio for the Performing Arts Recital Hall\, Bldg. 11A\, 5840 26th St. West\, Bldg. 11A\, Bradenton\, FL\, 34207\, United States
CATEGORIES:Early College Information Sessions
ATTACH;FMTTYPE=image/jpeg:https://www.scf.edu/wp-content/uploads/2025/09/graphic_EC_3.jpg
ORGANIZER;CN="State College of Florida%2C Manatee - Sarasota":MAILTO:Info@SCF.edu
END:VEVENT
BEGIN:VEVENT
DTSTART;TZID=America/New_York:20250925T190000
DTEND;TZID=America/New_York:20250925T203000
DTSTAMP:20260424T203040
CREATED:20250918T191950Z
LAST-MODIFIED:20250919T191447Z
UID:10000661-1758826800-1758832200@www.scf.edu
SUMMARY:Early College Information Sessions
DESCRIPTION:Presented by the State College of Florida\, Manatee-Sarasota \nThursday\, September 25th @ 7:00 p.m. – 8:30 p.m.\nVirtual Information Session via Microsoft Teams \n\nLearn how Early College can help you get ahead. Our information sessions provide details on the enrollment process and what to expect. Whether you’re a homeschool\, personalized education plan (PEP)\, public\, or private school student\, our team is here to guide you. RSVP to secure your spot. \nEvents will be listed as they are scheduled. Workshops are provided using Microsoft Teams. We recommend using Chrome or Firefox. You should be able to enter through your web browser. \nA Microsoft Teams link to join will be sent before the session. \nRegister Now!
URL:https://www.scf.edu/events/early-college-information-sessions-2/
LOCATION:Virtual Information Session via Microsoft Teams
CATEGORIES:Early College Information Sessions
ATTACH;FMTTYPE=image/jpeg:https://www.scf.edu/wp-content/uploads/2025/09/graphic_EC_3.jpg
ORGANIZER;CN="State College of Florida%2C Manatee - Sarasota":MAILTO:Info@SCF.edu
END:VEVENT
BEGIN:VEVENT
DTSTART;TZID=America/New_York:20250925T190000
DTEND;TZID=America/New_York:20250925T210000
DTSTAMP:20260424T203040
CREATED:20250829T155306Z
LAST-MODIFIED:20250829T155346Z
UID:10000642-1758826800-1758834000@www.scf.edu
SUMMARY:SCF Music Presents Fall Festival of Music
DESCRIPTION:Presented by SCF Music \nThursday\, September 25th @ 7:00 p.m.\nSCF Bradenton Campus\, 5840 26th St. West\, Neel Performing Arts Center\, Bldg. 11 East \n\nThe SCF Music Program invites you to an unforgettable evening of live performance as we launch the 2025–2026 season in style. Experience the power and passion of our talented student ensembles — including Symphonic Band\, Concert Choir\, Chamber Choir\, Guitar Ensemble\, Jazz Big Band\, and Jazz Combo — as they come together for a vibrant celebration of music. Don’t miss this dynamic kickoff to a new year of inspired music-making! \nBUY TICKETS
URL:https://www.scf.edu/events/fall-festival-of-music-2/
LOCATION:SCF Neel Performing Arts Center\, Bldg. 11 East\, 5840 26th St. West\, Bldg. 11 East\, Bradenton\, FL\, 34207\, United States
CATEGORIES:Music,Performing Arts
ATTACH;FMTTYPE=image/jpeg:https://www.scf.edu/wp-content/uploads/2025/08/Fall-Festival.jpg
ORGANIZER;CN="State College of Florida%2C Manatee - Sarasota":MAILTO:Info@SCF.edu
END:VEVENT
BEGIN:VEVENT
DTSTART;TZID=America/New_York:20250930T180000
DTEND;TZID=America/New_York:20250930T190000
DTSTAMP:20260424T203040
CREATED:20250904T174808Z
LAST-MODIFIED:20250904T174808Z
UID:10000652-1759255200-1759258800@www.scf.edu
SUMMARY:Exceptional Student Education Information Sessions
DESCRIPTION:Presented by the State College of Florida\, Manatee-Sarasota \nTuesday\, September 30\, 2025 @ 6:00 p.m. – 7:00 p.m.\nVirtual Information Session via Microsoft Teams \n\nInfo sessions are a great place to learn about SCF ESE Program and receive answers to your questions. Events will be listed as they are scheduled. Workshops are provided using Microsoft Teams. We recommend using Chrome or Firefox. You should be able to enter through your web browser. \nJOIN THE SESSION
URL:https://www.scf.edu/events/exceptional-student-education-information-sessions-3/
LOCATION:FL
CATEGORIES:Exceptional Student Education Information Sessions
ATTACH;FMTTYPE=image/jpeg:https://www.scf.edu/wp-content/uploads/2024/09/exceptional-student-education-2.jpg
ORGANIZER;CN="State College of Florida%2C Manatee - Sarasota":MAILTO:Info@SCF.edu
END:VEVENT
END:VCALENDAR