BEGIN:VCALENDAR
VERSION:2.0
PRODID:-//State College of Florida, Manatee - Sarasota - ECPv6.15.18//NONSGML v1.0//EN
CALSCALE:GREGORIAN
METHOD:PUBLISH
X-ORIGINAL-URL:https://www.scf.edu
X-WR-CALDESC:Events for State College of Florida, Manatee - Sarasota
REFRESH-INTERVAL;VALUE=DURATION:PT1H
X-Robots-Tag:noindex
X-PUBLISHED-TTL:PT1H
BEGIN:VTIMEZONE
TZID:America/New_York
BEGIN:DAYLIGHT
TZOFFSETFROM:-0500
TZOFFSETTO:-0400
TZNAME:EDT
DTSTART:20250309T070000
END:DAYLIGHT
BEGIN:STANDARD
TZOFFSETFROM:-0400
TZOFFSETTO:-0500
TZNAME:EST
DTSTART:20251102T060000
END:STANDARD
BEGIN:DAYLIGHT
TZOFFSETFROM:-0500
TZOFFSETTO:-0400
TZNAME:EDT
DTSTART:20260308T070000
END:DAYLIGHT
BEGIN:STANDARD
TZOFFSETFROM:-0400
TZOFFSETTO:-0500
TZNAME:EST
DTSTART:20261101T060000
END:STANDARD
BEGIN:DAYLIGHT
TZOFFSETFROM:-0500
TZOFFSETTO:-0400
TZNAME:EDT
DTSTART:20270314T070000
END:DAYLIGHT
BEGIN:STANDARD
TZOFFSETFROM:-0400
TZOFFSETTO:-0500
TZNAME:EST
DTSTART:20271107T060000
END:STANDARD
END:VTIMEZONE
BEGIN:VEVENT
DTSTART;TZID=America/New_York:20260109T193000
DTEND;TZID=America/New_York:20260109T210000
DTSTAMP:20260423T012235
CREATED:20250812T184034Z
LAST-MODIFIED:20250812T184322Z
UID:10000628-1767987000-1767992400@www.scf.edu
SUMMARY:The Ultimate Elvis Concert
DESCRIPTION:Friday\, January 9th @ 7:30pm\nSCF Bradenton Campus\, 5840 26th St. West\, Neel Performing Arts Center\, Bldg. 11 East \n\nThe Ultimate Elvis Concert is an unrivaled multimedia production of The King of Rock n’ Roll’s Career starring Elvis Presley Enterprises’ own Ultimate Elvis Tribute Artist Champion\, Cote Deonath\, backed by The Infinit-E Tribute Band! \nBuy Tickets \n  \n 
URL:https://www.scf.edu/events/the-ultimate-elvis-concert/
LOCATION:SCF Neel Performing Arts Center\, Bldg. 11 East\, 5840 26th St. West\, Bldg. 11 East\, Bradenton\, FL\, 34207\, United States
CATEGORIES:Music,Performing Arts
ATTACH;FMTTYPE=image/jpeg:https://www.scf.edu/wp-content/uploads/2025/08/Elvis-Concert-2026-scaled.jpg
END:VEVENT
BEGIN:VEVENT
DTSTART;TZID=America/New_York:20260114T090000
DTEND;TZID=America/New_York:20260114T100000
DTSTAMP:20260423T012235
CREATED:20260112T150106Z
LAST-MODIFIED:20260112T150106Z
UID:10000694-1768381200-1768384800@www.scf.edu
SUMMARY:B.S. Nursing Information Sessions
DESCRIPTION:Presented by the State College of Florida\, Manatee-Sarasota \nWednesday\, January 14th @ 9:30 a.m. – 10:00 a.m.\nVirtual Information Session via Microsoft Teams \n\nInfo sessions are a great place to learn about SCF BSN Program and receive answers to your questions. Events will be listed as they are scheduled. Workshops are provided using Microsoft Teams. We recommend using Chrome or Firefox. You should be able to enter through your web browser. \nJOIN THE SESSION
URL:https://www.scf.edu/events/b-s-nursing-information-sessions-4/
LOCATION:Virtual Information Session via Microsoft Teams
CATEGORIES:B.S. Nursing Information Sessions
ATTACH;FMTTYPE=image/jpeg:https://www.scf.edu/wp-content/uploads/2024/12/DSC06612-2.jpg
ORGANIZER;CN="State College of Florida%2C Manatee - Sarasota":MAILTO:Info@SCF.edu
END:VEVENT
BEGIN:VEVENT
DTSTART;TZID=America/New_York:20260114T100000
DTEND;TZID=America/New_York:20260114T110000
DTSTAMP:20260423T012235
CREATED:20260112T151153Z
LAST-MODIFIED:20260112T151153Z
UID:10000696-1768384800-1768388400@www.scf.edu
SUMMARY:Sesión Informativa: Programa de Enfermería Bilingüe
DESCRIPTION:Presented by the State College of Florida\, Manatee-Sarasota \nWednesday\, January 14th @ 10:00 a.m. – 11:00 a.m.\nVirtual Information Session via Microsoft Teams \n\nInfo sessions are a great place to learn about SCF ASN Program and receive answers to your questions. Events will be listed as they are scheduled. Workshops are provided using Microsoft Teams. We recommend using Chrome or Firefox. You should be able to enter through your web browser. \nJOIN THE SESSION
URL:https://www.scf.edu/events/sesion-informativa-programa-de-enfermeria-bilingue/
LOCATION:Virtual Information Session via Microsoft Teams
CATEGORIES:A.S. Nursing Information Sessions
ATTACH;FMTTYPE=image/jpeg:https://www.scf.edu/wp-content/uploads/2024/12/DSC06612-2.jpg
ORGANIZER;CN="State College of Florida%2C Manatee - Sarasota":MAILTO:Info@SCF.edu
END:VEVENT
BEGIN:VEVENT
DTSTART;TZID=America/New_York:20260114T110000
DTEND;TZID=America/New_York:20260114T120000
DTSTAMP:20260423T012235
CREATED:20260112T150816Z
LAST-MODIFIED:20260112T150816Z
UID:10000695-1768388400-1768392000@www.scf.edu
SUMMARY:A.S. Nursing Information Sessions
DESCRIPTION:Presented by the State College of Florida\, Manatee-Sarasota \nWednesday\, January 14th @ 11:00 a.m. – 12:00 p.m.\nVirtual Information Session via Microsoft Teams \n\nInfo sessions are a great place to learn about SCF ASN Program and receive answers to your questions. Events will be listed as they are scheduled. Workshops are provided using Microsoft Teams. We recommend using Chrome or Firefox. You should be able to enter through your web browser. \nJOIN THE SESSION
URL:https://www.scf.edu/events/a-s-nursing-information-sessions-6/
LOCATION:Virtual Information Session via Microsoft Teams
CATEGORIES:A.S. Nursing Information Sessions
ATTACH;FMTTYPE=image/jpeg:https://www.scf.edu/wp-content/uploads/2024/12/DSC06612-2.jpg
ORGANIZER;CN="State College of Florida%2C Manatee - Sarasota":MAILTO:Info@SCF.edu
END:VEVENT
BEGIN:VEVENT
DTSTART;TZID=America/New_York:20260114T190000
DTEND;TZID=America/New_York:20260114T210000
DTSTAMP:20260423T012235
CREATED:20250818T180300Z
LAST-MODIFIED:20250818T180300Z
UID:10000637-1768417200-1768424400@www.scf.edu
SUMMARY:U.S. Air Force Band of the West
DESCRIPTION:Wednesday\, January 14th @ 7:00pm\nSCF Bradenton Campus\, 5840 26th St. West\, Neel Performing Arts Center\, Bldg. 11 East \n\nThis is a ticketed\, free general admission concert. Each guest will need a ticket for entry.  Please secure your tickets in advance by contacting SCF Box Office.\nTo obtain your ticket for this special concert please follow one of the below methods (please indicate any accessible seating requirements): \n\nCall the SCF Box Office 941.752.5252\nEmail the SCF Box Office @ boxoffice@scf.edu (please include your name\, phone number\, email address\, and number of tickets needed)\nVisit the SCF Box Office in person located in the Neel lobby.\n\nSCF Box Office Hours: Monday\, Wednesday\, Thursday 12:00pm-5:00pm \nMore Info \n 
URL:https://www.scf.edu/events/u-s-air-force-band-of-the-west/
LOCATION:SCF Neel Performing Arts Center\, Bldg. 11 East\, 5840 26th St. West\, Bldg. 11 East\, Bradenton\, FL\, 34207\, United States
CATEGORIES:Music,Performing Arts
ATTACH;FMTTYPE=image/jpeg:https://www.scf.edu/wp-content/uploads/2025/08/US-Air-Force-Band-of-the-West.jpg
ORGANIZER;CN="State College of Florida%2C Manatee - Sarasota":MAILTO:Info@SCF.edu
END:VEVENT
BEGIN:VEVENT
DTSTART;TZID=America/New_York:20260122T190000
DTEND;TZID=America/New_York:20260122T210000
DTSTAMP:20260423T012235
CREATED:20251105T193006Z
LAST-MODIFIED:20251105T193044Z
UID:10000676-1769108400-1769115600@www.scf.edu
SUMMARY:SCF Music Presents Best of the Best
DESCRIPTION:Presented by SCF Music \nThursday\, January 22nd @ 7:00 p.m.\nSCF Bradenton Campus\, 5840 26th St. West\, SCF Recital Hall / 11A \n\nJoin us for a recital showcasing the top SCF Music Program students selected to perform in the Florida College System Activities Association Student Artist Competition at Florida Atlantic University. Don’t miss this opportunity to experience the talent and artistry of these outstanding students as they prepare to represent SCF on a statewide stage. \nBUY TICKETS
URL:https://www.scf.edu/events/scf-music-presents-best-of-the-best/
LOCATION:Studio for the Performing Arts Recital Hall\, Bldg. 11A\, 5840 26th St. West\, Bldg. 11A\, Bradenton\, FL\, 34207\, United States
CATEGORIES:Music,Performing Arts
ATTACH;FMTTYPE=image/jpeg:https://www.scf.edu/wp-content/uploads/2025/11/Student-Artist.jpg
END:VEVENT
BEGIN:VEVENT
DTSTART;TZID=America/New_York:20260131T150000
DTEND;TZID=America/New_York:20260131T150000
DTSTAMP:20260423T012235
CREATED:20250527T163149Z
LAST-MODIFIED:20250527T163149Z
UID:10000611-1769871600-1769871600@www.scf.edu
SUMMARY:Manatee Community Concert Band Presents New Year New Adventures
DESCRIPTION:Presented by Manatee Community Concert Band \nSaturday\, January 31st @ 3:00 p.m.\nSCF Bradenton Campus\, 5840 26th St. West\, Neel Performing Arts Center\, Bldg. 11 East \n\nRing the New Year with the Manatee Community Concert Band at the Neel Performing Arts Center! \nBUY TICKETS
URL:https://www.scf.edu/events/manatee-community-concert-band-presents-new-year-new-adventures/
LOCATION:SCF Neel Performing Arts Center\, Bldg. 11 East\, 5840 26th St. West\, Bldg. 11 East\, Bradenton\, FL\, 34207\, United States
CATEGORIES:Music,Performing Arts
ATTACH;FMTTYPE=image/jpeg:https://www.scf.edu/wp-content/uploads/2025/05/mccb-new-year-new-adventures.jpg
ORGANIZER;CN="Manatee Community Concert Band":MAILTO:lynncleary@manateeconcertband.org
END:VEVENT
END:VCALENDAR