BEGIN:VCALENDAR
VERSION:2.0
PRODID:-//State College of Florida, Manatee - Sarasota - ECPv6.15.18//NONSGML v1.0//EN
CALSCALE:GREGORIAN
METHOD:PUBLISH
X-WR-CALNAME:State College of Florida, Manatee - Sarasota
X-ORIGINAL-URL:https://www.scf.edu
X-WR-CALDESC:Events for State College of Florida, Manatee - Sarasota
REFRESH-INTERVAL;VALUE=DURATION:PT1H
X-Robots-Tag:noindex
X-PUBLISHED-TTL:PT1H
BEGIN:VTIMEZONE
TZID:America/New_York
BEGIN:DAYLIGHT
TZOFFSETFROM:-0500
TZOFFSETTO:-0400
TZNAME:EDT
DTSTART:20240310T070000
END:DAYLIGHT
BEGIN:STANDARD
TZOFFSETFROM:-0400
TZOFFSETTO:-0500
TZNAME:EST
DTSTART:20241103T060000
END:STANDARD
BEGIN:DAYLIGHT
TZOFFSETFROM:-0500
TZOFFSETTO:-0400
TZNAME:EDT
DTSTART:20250309T070000
END:DAYLIGHT
BEGIN:STANDARD
TZOFFSETFROM:-0400
TZOFFSETTO:-0500
TZNAME:EST
DTSTART:20251102T060000
END:STANDARD
BEGIN:DAYLIGHT
TZOFFSETFROM:-0500
TZOFFSETTO:-0400
TZNAME:EDT
DTSTART:20260308T070000
END:DAYLIGHT
BEGIN:STANDARD
TZOFFSETFROM:-0400
TZOFFSETTO:-0500
TZNAME:EST
DTSTART:20261101T060000
END:STANDARD
END:VTIMEZONE
BEGIN:VEVENT
DTSTART;TZID=America/New_York:20250909T173000
DTEND;TZID=America/New_York:20250909T193000
DTSTAMP:20260424T221608
CREATED:20250818T130011Z
LAST-MODIFIED:20250821T183249Z
UID:10000631-1757439000-1757446200@www.scf.edu
SUMMARY:Hustle Bar: AI Marketing Made Easy: Smart Growth For Your Small Business
DESCRIPTION:Tuesday\, September 9th from 5:30pm – 7:30pm\nGreater Sarasota Chamber of Commerce\, 1945 Fruitville Road\, Sarasota \n\nThe Greater Sarasota Chamber of Commerce is partnering with State College of Florida’s 26 West Center to launch Hustle Bar\, a monthly workshop series dedicated to empowering the readiness and growth of our region’s entrepreneurs and startups. \nUnlock the power of AI to streamline your marketing and boost efficiency. This hands-on workshop demystifies AI’s role in small businesses and features live demos of the most popular AI software. Learn to generate compelling content\, create stunning visuals\, and enhance campaigns with AI-driven tools. Gain practical strategies to integrate AI into your marketing immediately and stay ahead of the competition. Whether you’re a beginner or looking to refine your skills\, this session will equip you with actionable takeaways to maximize your marketing potential. \nWho Should Attend:\nSmall business owners\, entrepreneurs\, marketing professionals\, web designers\, and anyone who wants to learn the best artificial intelligence apps to boost their marketing. \nRegister today and start leveraging AI to grow your business! \nBuy Tickets \nRebeca Lima is a business coach\, adjunct instructor\, and entrepreneur with extensive experience in entrepreneurship\, business strategy\, and marketing. As the founder of the Six Figure Society® and creator of the Vision Integration Method®\, she has worked with clients worldwide\, helping them build and scale profitable businesses. \nRebeca holds certifications from Harvard Business School Online\, Yale University\, and Robbins Madanes Training\, providing a strong foundation in leadership\, influence\, and business development. Her expertise in business coaching and strategic growth makes her a valuable resource for students looking to develop real-world\, results-driven skills.
URL:https://www.scf.edu/events/hustle-bar-ai-marketing-made-easy-smart-growth-for-your-small-business/
LOCATION:Greater Sarasota Chamber of Commerce\, 1945 Fruitville Road\, Sarasota\, FL\, 34236\, United States
ATTACH;FMTTYPE=image/png:https://www.scf.edu/wp-content/uploads/2025/08/Hustle-Bar-Featured.png
ORGANIZER;CN="Greater Sarasota Chamber of Commerce":MAILTO:communications@sarasotachamber.com
END:VEVENT
BEGIN:VEVENT
DTSTART;TZID=America/New_York:20250910T110000
DTEND;TZID=America/New_York:20250910T120000
DTSTAMP:20260424T221609
CREATED:20250812T193457Z
LAST-MODIFIED:20250812T194414Z
UID:10000630-1757502000-1757505600@www.scf.edu
SUMMARY:A.S. Nursing Information Sessions
DESCRIPTION:Presented by the State College of Florida\, Manatee-Sarasota \nWednesday\, September 10th @ 11:00 a.m. – 12:00 p.m.\nVirtual Information Session via Microsoft Teams \n\nInfo sessions are a great place to learn about SCF ASN Program and receive answers to your questions. Events will be listed as they are scheduled. Workshops are provided using Microsoft Teams. We recommend using Chrome or Firefox. You should be able to enter through your web browser. \nJOIN THE SESSION
URL:https://www.scf.edu/events/a-s-nursing-information-sessions-2/
LOCATION:Virtual Information Session via Microsoft Teams
CATEGORIES:A.S. Nursing Information Sessions
ATTACH;FMTTYPE=image/jpeg:https://www.scf.edu/wp-content/uploads/2024/12/DSC06612-2.jpg
ORGANIZER;CN="State College of Florida%2C Manatee - Sarasota":MAILTO:Info@SCF.edu
END:VEVENT
BEGIN:VEVENT
DTSTART;TZID=America/New_York:20250910T170000
DTEND;TZID=America/New_York:20250910T180000
DTSTAMP:20260424T221609
CREATED:20250818T131543Z
LAST-MODIFIED:20250818T131543Z
UID:10000634-1757523600-1757527200@www.scf.edu
SUMMARY:Teacher Certification Information Sessions
DESCRIPTION:Presented by the State College of Florida\, Manatee-Sarasota \nWednesday\, September 10\, 2025 @ 5:00 p.m. – 6:00 p.m.\nVirtual Information Session via Microsoft Teams \n\nInfo sessions are a great place to learn about SCF EPI Program and receive answers to your questions. Events will be listed as they are scheduled. Workshops are provided using Microsoft Teams. We recommend using Chrome or Firefox. You should be able to enter through your web browser. \nJOIN THE SESSION
URL:https://www.scf.edu/events/teacher-certification-information-sessions/
LOCATION:Virtual Information Session via Microsoft Teams
CATEGORIES:Teacher Certification Information Sessions
ATTACH;FMTTYPE=image/jpeg:https://www.scf.edu/wp-content/uploads/2024/09/teacher-certification-information-sessions-2.jpg
ORGANIZER;CN="State College of Florida%2C Manatee - Sarasota":MAILTO:Info@SCF.edu
END:VEVENT
BEGIN:VEVENT
DTSTART;TZID=America/New_York:20250911T100000
DTEND;TZID=America/New_York:20250911T110000
DTSTAMP:20260424T221609
CREATED:20250908T183733Z
LAST-MODIFIED:20250908T183733Z
UID:10000654-1757584800-1757588400@www.scf.edu
SUMMARY:B.S. Nursing Information Sessions
DESCRIPTION:Presented by the State College of Florida\, Manatee-Sarasota \nThursday\, September 11th @ 10:00 a.m. – 11:00 a.m.\nVirtual Information Session via Microsoft Teams \n\nInfo sessions are a great place to learn about SCF BSN Program and receive answers to your questions. Events will be listed as they are scheduled. Workshops are provided using Microsoft Teams. We recommend using Chrome or Firefox. You should be able to enter through your web browser. \nJOIN THE SESSION
URL:https://www.scf.edu/events/b-s-nursing-information-sessions/
LOCATION:Virtual Information Session via Microsoft Teams
CATEGORIES:B.S. Nursing Information Sessions
ATTACH;FMTTYPE=image/jpeg:https://www.scf.edu/wp-content/uploads/2024/12/DSC06612-2.jpg
ORGANIZER;CN="State College of Florida%2C Manatee - Sarasota":MAILTO:Info@SCF.edu
END:VEVENT
END:VCALENDAR