BEGIN:VCALENDAR
VERSION:2.0
PRODID:-//State College of Florida, Manatee - Sarasota - ECPv6.15.18//NONSGML v1.0//EN
CALSCALE:GREGORIAN
METHOD:PUBLISH
X-WR-CALNAME:State College of Florida, Manatee - Sarasota
X-ORIGINAL-URL:https://www.scf.edu
X-WR-CALDESC:Events for State College of Florida, Manatee - Sarasota
REFRESH-INTERVAL;VALUE=DURATION:PT1H
X-Robots-Tag:noindex
X-PUBLISHED-TTL:PT1H
BEGIN:VTIMEZONE
TZID:America/New_York
BEGIN:DAYLIGHT
TZOFFSETFROM:-0500
TZOFFSETTO:-0400
TZNAME:EDT
DTSTART:20240310T070000
END:DAYLIGHT
BEGIN:STANDARD
TZOFFSETFROM:-0400
TZOFFSETTO:-0500
TZNAME:EST
DTSTART:20241103T060000
END:STANDARD
BEGIN:DAYLIGHT
TZOFFSETFROM:-0500
TZOFFSETTO:-0400
TZNAME:EDT
DTSTART:20250309T070000
END:DAYLIGHT
BEGIN:STANDARD
TZOFFSETFROM:-0400
TZOFFSETTO:-0500
TZNAME:EST
DTSTART:20251102T060000
END:STANDARD
BEGIN:DAYLIGHT
TZOFFSETFROM:-0500
TZOFFSETTO:-0400
TZNAME:EDT
DTSTART:20260308T070000
END:DAYLIGHT
BEGIN:STANDARD
TZOFFSETFROM:-0400
TZOFFSETTO:-0500
TZNAME:EST
DTSTART:20261101T060000
END:STANDARD
END:VTIMEZONE
BEGIN:VEVENT
DTSTART;TZID=America/New_York:20251008T170000
DTEND;TZID=America/New_York:20251008T180000
DTSTAMP:20260424T195826
CREATED:20250818T131956Z
LAST-MODIFIED:20250818T132249Z
UID:10000635-1759942800-1759946400@www.scf.edu
SUMMARY:Teacher Certification Information Sessions
DESCRIPTION:Presented by the State College of Florida\, Manatee-Sarasota \nWednesday\, October 8\, 2025 @ 5:00 p.m. – 6:00 p.m.\nVirtual Information Session via Microsoft Teams \n\nInfo sessions are a great place to learn about SCF EPI Program and receive answers to your questions. Events will be listed as they are scheduled. Workshops are provided using Microsoft Teams. We recommend using Chrome or Firefox. You should be able to enter through your web browser. \nJOIN THE SESSION
URL:https://www.scf.edu/events/teacher-certification-information-sessions-2/
LOCATION:Virtual Information Session via Microsoft Teams
CATEGORIES:Teacher Certification Information Sessions
ATTACH;FMTTYPE=image/jpeg:https://www.scf.edu/wp-content/uploads/2024/09/teacher-certification-information-sessions-3.jpg
ORGANIZER;CN="State College of Florida%2C Manatee - Sarasota":MAILTO:Info@SCF.edu
END:VEVENT
BEGIN:VEVENT
DTSTART;TZID=America/New_York:20251009T100000
DTEND;TZID=America/New_York:20251009T110000
DTSTAMP:20260424T195827
CREATED:20250908T183922Z
LAST-MODIFIED:20250908T183922Z
UID:10000655-1760004000-1760007600@www.scf.edu
SUMMARY:B.S. Nursing Information Sessions
DESCRIPTION:Presented by the State College of Florida\, Manatee-Sarasota \nThursday\, October 9th @ 10:00 a.m. – 11:00 a.m.\nVirtual Information Session via Microsoft Teams \n\nInfo sessions are a great place to learn about SCF BSN Program and receive answers to your questions. Events will be listed as they are scheduled. Workshops are provided using Microsoft Teams. We recommend using Chrome or Firefox. You should be able to enter through your web browser. \nJOIN THE SESSION
URL:https://www.scf.edu/events/b-s-nursing-information-sessions-2/
LOCATION:Virtual Information Session via Microsoft Teams
CATEGORIES:B.S. Nursing Information Sessions
ATTACH;FMTTYPE=image/jpeg:https://www.scf.edu/wp-content/uploads/2024/12/DSC06612-2.jpg
ORGANIZER;CN="State College of Florida%2C Manatee - Sarasota":MAILTO:Info@SCF.edu
END:VEVENT
BEGIN:VEVENT
DTSTART;TZID=America/New_York:20251009T190000
DTEND;TZID=America/New_York:20251009T210000
DTSTAMP:20260424T195827
CREATED:20250829T161507Z
LAST-MODIFIED:20250829T161819Z
UID:10000643-1760036400-1760043600@www.scf.edu
SUMMARY:SCF Music Presents Romantic Era Stories
DESCRIPTION:Presented by SCF Music \nThursday\, October 9th @ 7:00 p.m.\nSCF Bradenton Campus\, 5840 26th St. West\, Neel Performing Arts Center\, Bldg. 11 East \n\nStep into a world of sweeping melodies and rich emotion as we bring the Romantic era to life. Join us for a captivating night of music by Franz Liszt\, Camille Saint-Saëns\, and Antonín Dvořák. These master composers wove unforgettable narratives into every note — come hear their stories unfold. \nBUY TICKETS
URL:https://www.scf.edu/events/romantic-era-stories/
LOCATION:SCF Neel Performing Arts Center\, Bldg. 11 East\, 5840 26th St. West\, Bldg. 11 East\, Bradenton\, FL\, 34207\, United States
CATEGORIES:Music,Performing Arts
ATTACH;FMTTYPE=image/jpeg:https://www.scf.edu/wp-content/uploads/2025/08/Romantic-Era.jpg
ORGANIZER;CN="State College of Florida%2C Manatee - Sarasota":MAILTO:Info@SCF.edu
END:VEVENT
END:VCALENDAR