BEGIN:VCALENDAR
VERSION:2.0
PRODID:-//State College of Florida, Manatee - Sarasota - ECPv6.15.18//NONSGML v1.0//EN
CALSCALE:GREGORIAN
METHOD:PUBLISH
X-ORIGINAL-URL:https://www.scf.edu
X-WR-CALDESC:Events for State College of Florida, Manatee - Sarasota
REFRESH-INTERVAL;VALUE=DURATION:PT1H
X-Robots-Tag:noindex
X-PUBLISHED-TTL:PT1H
BEGIN:VTIMEZONE
TZID:America/New_York
BEGIN:DAYLIGHT
TZOFFSETFROM:-0500
TZOFFSETTO:-0400
TZNAME:EDT
DTSTART:20240310T070000
END:DAYLIGHT
BEGIN:STANDARD
TZOFFSETFROM:-0400
TZOFFSETTO:-0500
TZNAME:EST
DTSTART:20241103T060000
END:STANDARD
BEGIN:DAYLIGHT
TZOFFSETFROM:-0500
TZOFFSETTO:-0400
TZNAME:EDT
DTSTART:20250309T070000
END:DAYLIGHT
BEGIN:STANDARD
TZOFFSETFROM:-0400
TZOFFSETTO:-0500
TZNAME:EST
DTSTART:20251102T060000
END:STANDARD
BEGIN:DAYLIGHT
TZOFFSETFROM:-0500
TZOFFSETTO:-0400
TZNAME:EDT
DTSTART:20260308T070000
END:DAYLIGHT
BEGIN:STANDARD
TZOFFSETFROM:-0400
TZOFFSETTO:-0500
TZNAME:EST
DTSTART:20261101T060000
END:STANDARD
END:VTIMEZONE
BEGIN:VEVENT
DTSTART;TZID=America/New_York:20251021T160000
DTEND;TZID=America/New_York:20251021T180000
DTSTAMP:20260425T010255
CREATED:20250909T163513Z
LAST-MODIFIED:20250909T163745Z
UID:10000659-1761062400-1761069600@www.scf.edu
SUMMARY:Find Your Future Here - SCF Bradenton Open House
DESCRIPTION:Presented by the State College of Florida\, Manatee-Sarasota \nTuesday\, October 21st 2025 @ 4:00 – 6:00 p.m.\nSCF Bradenton Campus – 5840 26th St. W.\, Building 1 \n\nDiscover SCF and Join us at the Open House!\nNo RSVP Required. \n\nTour the Campus\nMeet our Faculty\nDiscover How to Pay for College\nExplore Student Life\n\n 
URL:https://www.scf.edu/events/find-your-future-here-scf-bradenton-open-house/
LOCATION:Events at the SCF Bradenton Campus\, 5840 26th St. West\, Bradenton\, FL\, 34207\, United States
CATEGORIES:Academic,Open House
ATTACH;FMTTYPE=image/jpeg:https://www.scf.edu/wp-content/uploads/2025/09/Fall-Open-House-Flyer-2025.jpg
ORGANIZER;CN="State College of Florida%2C Manatee - Sarasota":MAILTO:Info@SCF.edu
END:VEVENT
BEGIN:VEVENT
DTSTART;TZID=America/New_York:20251024T193000
DTEND;TZID=America/New_York:20251024T210000
DTSTAMP:20260425T010255
CREATED:20250902T165154Z
LAST-MODIFIED:20251013T202117Z
UID:10000646-1761334200-1761339600@www.scf.edu
SUMMARY:SCF Music Theatre Ensemble Presents West Side Story
DESCRIPTION:October 24-25 @ 7:30pm | October 26 @ 2:00pm\nSCF Bradenton Campus\, 5840 26th St. West\, Neel Performing Arts Center\, Bldg. 11 East \n\nA love story that transcends time\, West Side Story is one of the most powerful and poignant musicals ever created. Smoldering with the sizzling tension of gang rivalry between the Jets and the Sharks on the gritty streets of New York City\, star-crossed lovers Tony and Maria struggle to rise above the intolerance that surrounds them. With electrifying choreography and an unforgettable score by Leonard Bernstein\, it remains a classic musical theatre experience which continues to captivate and touch audiences today. \nBuy Tickets \n 
URL:https://www.scf.edu/events/west-side-story/2025-10-24/
LOCATION:SCF Neel Performing Arts Center\, Bldg. 11 East\, 5840 26th St. West\, Bldg. 11 East\, Bradenton\, FL\, 34207\, United States
CATEGORIES:Music,Performing Arts
ATTACH;FMTTYPE=image/jpeg:https://www.scf.edu/wp-content/uploads/2025/09/West-Side-Story.jpg
ORGANIZER;CN="State College of Florida%2C Manatee - Sarasota":MAILTO:Info@SCF.edu
END:VEVENT
BEGIN:VEVENT
DTSTART;TZID=America/New_York:20251025T193000
DTEND;TZID=America/New_York:20251025T210000
DTSTAMP:20260425T010255
CREATED:20250902T165154Z
LAST-MODIFIED:20251013T202117Z
UID:10000647-1761420600-1761426000@www.scf.edu
SUMMARY:SCF Music Theatre Ensemble Presents West Side Story
DESCRIPTION:October 24-25 @ 7:30pm | October 26 @ 2:00pm\nSCF Bradenton Campus\, 5840 26th St. West\, Neel Performing Arts Center\, Bldg. 11 East \n\nA love story that transcends time\, West Side Story is one of the most powerful and poignant musicals ever created. Smoldering with the sizzling tension of gang rivalry between the Jets and the Sharks on the gritty streets of New York City\, star-crossed lovers Tony and Maria struggle to rise above the intolerance that surrounds them. With electrifying choreography and an unforgettable score by Leonard Bernstein\, it remains a classic musical theatre experience which continues to captivate and touch audiences today. \nBuy Tickets \n 
URL:https://www.scf.edu/events/west-side-story/2025-10-25/
LOCATION:SCF Neel Performing Arts Center\, Bldg. 11 East\, 5840 26th St. West\, Bldg. 11 East\, Bradenton\, FL\, 34207\, United States
CATEGORIES:Music,Performing Arts
ATTACH;FMTTYPE=image/jpeg:https://www.scf.edu/wp-content/uploads/2025/09/West-Side-Story.jpg
ORGANIZER;CN="State College of Florida%2C Manatee - Sarasota":MAILTO:Info@SCF.edu
END:VEVENT
BEGIN:VEVENT
DTSTART;TZID=America/New_York:20251026T140000
DTEND;TZID=America/New_York:20251026T163000
DTSTAMP:20260425T010255
CREATED:20250902T165154Z
LAST-MODIFIED:20251013T202117Z
UID:10000648-1761487200-1761496200@www.scf.edu
SUMMARY:SCF Music Theatre Ensemble Presents West Side Story
DESCRIPTION:October 24-25 @ 7:30pm | October 26 @ 2:00pm\nSCF Bradenton Campus\, 5840 26th St. West\, Neel Performing Arts Center\, Bldg. 11 East \n\nA love story that transcends time\, West Side Story is one of the most powerful and poignant musicals ever created. Smoldering with the sizzling tension of gang rivalry between the Jets and the Sharks on the gritty streets of New York City\, star-crossed lovers Tony and Maria struggle to rise above the intolerance that surrounds them. With electrifying choreography and an unforgettable score by Leonard Bernstein\, it remains a classic musical theatre experience which continues to captivate and touch audiences today. \nBuy Tickets \n 
URL:https://www.scf.edu/events/west-side-story/2025-10-26/
LOCATION:SCF Neel Performing Arts Center\, Bldg. 11 East\, 5840 26th St. West\, Bldg. 11 East\, Bradenton\, FL\, 34207\, United States
CATEGORIES:Music,Performing Arts
ATTACH;FMTTYPE=image/jpeg:https://www.scf.edu/wp-content/uploads/2025/09/West-Side-Story.jpg
ORGANIZER;CN="State College of Florida%2C Manatee - Sarasota":MAILTO:Info@SCF.edu
END:VEVENT
END:VCALENDAR