BEGIN:VCALENDAR
VERSION:2.0
PRODID:-//State College of Florida, Manatee - Sarasota - ECPv6.15.18//NONSGML v1.0//EN
CALSCALE:GREGORIAN
METHOD:PUBLISH
X-WR-CALNAME:State College of Florida, Manatee - Sarasota
X-ORIGINAL-URL:https://www.scf.edu
X-WR-CALDESC:Events for State College of Florida, Manatee - Sarasota
REFRESH-INTERVAL;VALUE=DURATION:PT1H
X-Robots-Tag:noindex
X-PUBLISHED-TTL:PT1H
BEGIN:VTIMEZONE
TZID:America/New_York
BEGIN:DAYLIGHT
TZOFFSETFROM:-0500
TZOFFSETTO:-0400
TZNAME:EDT
DTSTART:20240310T070000
END:DAYLIGHT
BEGIN:STANDARD
TZOFFSETFROM:-0400
TZOFFSETTO:-0500
TZNAME:EST
DTSTART:20241103T060000
END:STANDARD
BEGIN:DAYLIGHT
TZOFFSETFROM:-0500
TZOFFSETTO:-0400
TZNAME:EDT
DTSTART:20250309T070000
END:DAYLIGHT
BEGIN:STANDARD
TZOFFSETFROM:-0400
TZOFFSETTO:-0500
TZNAME:EST
DTSTART:20251102T060000
END:STANDARD
BEGIN:DAYLIGHT
TZOFFSETFROM:-0500
TZOFFSETTO:-0400
TZNAME:EDT
DTSTART:20260308T070000
END:DAYLIGHT
BEGIN:STANDARD
TZOFFSETFROM:-0400
TZOFFSETTO:-0500
TZNAME:EST
DTSTART:20261101T060000
END:STANDARD
END:VTIMEZONE
BEGIN:VEVENT
DTSTART;TZID=America/New_York:20251030T103000
DTEND;TZID=America/New_York:20251030T113000
DTSTAMP:20260425T075014
CREATED:20250718T145258Z
LAST-MODIFIED:20250829T161938Z
UID:10000621-1761820200-1761823800@www.scf.edu
SUMMARY:SCF Parrish Campus Groundbreaking Ceremony
DESCRIPTION:Presented by The State College of Florida Foundation \nThursday\, October 30th @ 10:30 am – 11:30 am\nSCF Parrish Campus – 11680 Erie Road\, Parrish\, FL (parking available at the Parrish Community Park on Ft. Hamer Road) \n\nBe Part of History in the Making \nJoin the State College of Florida Foundation\, local leaders\, and community members as we officially break ground on SCF’s newest campus—located in one of Florida’s fastest-growing regions: Parrish. This milestone event marks the beginning of a bold chapter for SCF\, expanding access to higher education and workforce training for students across our region. \nSCF Parrish is a visionary 74-acre campus designed to meet the needs of students east of I-75 and north of the Manatee River. This campus will offer: \n\nA concierge-style student experience\nPrograms tailored to the local workforce\nSeamless access to SCF’s high-quality academics\n\nPhase 1 of the project—a $5 million capital initiative—is underway. Naming and donor opportunities are available to support this transformative expansion. \nHelp us build the future. Your support today shapes the leaders of tomorrow. \nLearn More \nFor more information\, contact:\nSCFFoundation@SCF.edu\n941-752-5336
URL:https://www.scf.edu/events/scf-parrish-campus-groundbreaking-ceremony/
LOCATION:SCF Parrish Campus\, 11680 Erie Road\, Parrish\, FL
CATEGORIES:SCF Foundation
ATTACH;FMTTYPE=image/jpeg:https://www.scf.edu/wp-content/uploads/2025/07/scf-parrish-campus-rendering.jpg
ORGANIZER;CN="SCF Foundation":MAILTO:SCFFoundation@SCF.edu
END:VEVENT
BEGIN:VEVENT
DTSTART;TZID=America/New_York:20251030T180000
DTEND;TZID=America/New_York:20251030T190000
DTSTAMP:20260425T075014
CREATED:20250904T175047Z
LAST-MODIFIED:20250904T175047Z
UID:10000653-1761847200-1761850800@www.scf.edu
SUMMARY:Exceptional Student Education Information Sessions
DESCRIPTION:Presented by the State College of Florida\, Manatee-Sarasota \nThursday\, October 30\, 2025 @ 6:00 p.m. – 7:00 p.m.\nVirtual Information Session via Microsoft Teams \n\nInfo sessions are a great place to learn about SCF ESE Program and receive answers to your questions. Events will be listed as they are scheduled. Workshops are provided using Microsoft Teams. We recommend using Chrome or Firefox. You should be able to enter through your web browser. \nJOIN THE SESSION
URL:https://www.scf.edu/events/exceptional-student-education-information-sessions-4/
LOCATION:Virtual Information Session via Microsoft Teams
CATEGORIES:Exceptional Student Education Information Sessions
ATTACH;FMTTYPE=image/jpeg:https://www.scf.edu/wp-content/uploads/2024/09/exceptional-student-education-2.jpg
ORGANIZER;CN="State College of Florida%2C Manatee - Sarasota":MAILTO:Info@SCF.edu
END:VEVENT
BEGIN:VEVENT
DTSTART;TZID=America/New_York:20251030T180000
DTEND;TZID=America/New_York:20251030T200000
DTSTAMP:20260425T075014
CREATED:20251028T125534Z
LAST-MODIFIED:20251028T200424Z
UID:10000675-1761847200-1761854400@www.scf.edu
SUMMARY:Annual Trunk or Treat at SCF Bradenton
DESCRIPTION:Provided by Office of Student Life\, Student Government\, Campus Clubs & Athletics \nThursday\, October 30th\, 6:00 p.m. – 8:00 p.m.\nSCF Bradenton Campus\, 5840 26th St. West Parking Lot J \n\nTrunk or Treat is a community event held annually at SCF Bradenton\, inviting families and members of the community for a night of fun trunk or treating with our SCF Clubs. \nQuestions? \nContact: StudentLife@SCF.edu \n\nfree candy (while supplies last)\ndecorated vehicles\nmusic\nand much more!
URL:https://www.scf.edu/events/trunk-or-treat/
LOCATION:Events at the SCF Bradenton Campus\, 5840 26th St. West\, Bradenton\, FL\, 34207\, United States
CATEGORIES:Student Life
ATTACH;FMTTYPE=image/jpeg:https://www.scf.edu/wp-content/uploads/2025/10/TrunkorTreatSocialMedia.jpg
END:VEVENT
BEGIN:VEVENT
DTSTART;TZID=America/New_York:20251030T190000
DTEND;TZID=America/New_York:20251030T203000
DTSTAMP:20260425T075014
CREATED:20250821T184045Z
LAST-MODIFIED:20250821T184045Z
UID:10000639-1761850800-1761856200@www.scf.edu
SUMMARY:SCF Music Presents Tone & Terror
DESCRIPTION:Thursday\, October 30th @ 7:00pm\nSCF Bradenton Campus\, 5840 26th St. West\, SCF Recital Hall / 11A\, Studio for the Performing Arts \n\nJoin us for a spine-tingling night of sonic experimentation and haunted harmonies. \nThe State College of Florida’s Guitar Ensemble conjures eerie elegance through tightly woven strings and shadowy textures\, while the Music Production students unleash electroacoustic phantoms\, multimedia illusions\, and spectral soundscapes. Expect twisted tones\, chilling visuals\, and creative horrors that blur the line between performance and possession. \nThis is not your typical recital—it’s a séance of sound. \nBuy Tickets \n 
URL:https://www.scf.edu/events/tone-terror/
LOCATION:Studio for the Performing Arts Recital Hall\, Bldg. 11A\, 5840 26th St. West\, Bldg. 11A\, Bradenton\, FL\, 34207\, United States
CATEGORIES:Music,Performing Arts
ATTACH;FMTTYPE=image/jpeg:https://www.scf.edu/wp-content/uploads/2025/08/Guitar-Halloween.jpg
END:VEVENT
BEGIN:VEVENT
DTSTART;TZID=America/New_York:20251101T150000
DTEND;TZID=America/New_York:20251101T150000
DTSTAMP:20260425T075014
CREATED:20250527T162639Z
LAST-MODIFIED:20250527T162639Z
UID:10000609-1762009200-1762009200@www.scf.edu
SUMMARY:Manatee Community Concert Band Presents Summon the Heroes
DESCRIPTION:Presented by Manatee Community Concert Band \nSaturday\, November 1st @ 3:00 p.m.\nSCF Bradenton Campus\, 5840 26th St. West\, Neel Performing Arts Center\, Bldg. 11 East \n\nJoin Manatee Community Concert Band in celebration of Veterans Day for their first concert of the season at the Neel Performing Arts Center! \nBUY TICKETS
URL:https://www.scf.edu/events/manatee-community-concert-band-presents-summon-the-heroes/
LOCATION:SCF Neel Performing Arts Center\, Bldg. 11 East\, 5840 26th St. West\, Bldg. 11 East\, Bradenton\, FL\, 34207\, United States
CATEGORIES:Music,Performing Arts
ATTACH;FMTTYPE=image/jpeg:https://www.scf.edu/wp-content/uploads/2025/05/mccb-summon-heroes.jpg
ORGANIZER;CN="Manatee Community Concert Band":MAILTO:lynncleary@manateeconcertband.org
END:VEVENT
END:VCALENDAR