BEGIN:VCALENDAR
VERSION:2.0
PRODID:-//State College of Florida, Manatee - Sarasota - ECPv6.15.18//NONSGML v1.0//EN
CALSCALE:GREGORIAN
METHOD:PUBLISH
X-WR-CALNAME:State College of Florida, Manatee - Sarasota
X-ORIGINAL-URL:https://www.scf.edu
X-WR-CALDESC:Events for State College of Florida, Manatee - Sarasota
REFRESH-INTERVAL;VALUE=DURATION:PT1H
X-Robots-Tag:noindex
X-PUBLISHED-TTL:PT1H
BEGIN:VTIMEZONE
TZID:America/New_York
BEGIN:DAYLIGHT
TZOFFSETFROM:-0500
TZOFFSETTO:-0400
TZNAME:EDT
DTSTART:20240310T070000
END:DAYLIGHT
BEGIN:STANDARD
TZOFFSETFROM:-0400
TZOFFSETTO:-0500
TZNAME:EST
DTSTART:20241103T060000
END:STANDARD
BEGIN:DAYLIGHT
TZOFFSETFROM:-0500
TZOFFSETTO:-0400
TZNAME:EDT
DTSTART:20250309T070000
END:DAYLIGHT
BEGIN:STANDARD
TZOFFSETFROM:-0400
TZOFFSETTO:-0500
TZNAME:EST
DTSTART:20251102T060000
END:STANDARD
BEGIN:DAYLIGHT
TZOFFSETFROM:-0500
TZOFFSETTO:-0400
TZNAME:EDT
DTSTART:20260308T070000
END:DAYLIGHT
BEGIN:STANDARD
TZOFFSETFROM:-0400
TZOFFSETTO:-0500
TZNAME:EST
DTSTART:20261101T060000
END:STANDARD
END:VTIMEZONE
BEGIN:VEVENT
DTSTART;TZID=America/New_York:20251105T100000
DTEND;TZID=America/New_York:20251105T110000
DTSTAMP:20260425T075014
CREATED:20251009T183513Z
LAST-MODIFIED:20251009T183513Z
UID:10000673-1762336800-1762340400@www.scf.edu
SUMMARY:B.S. Nursing Information Sessions
DESCRIPTION:Presented by the State College of Florida\, Manatee-Sarasota \nWednesday\, November 5th @ 10:00 a.m. – 11:00 a.m.\nVirtual Information Session via Microsoft Teams \n\nInfo sessions are a great place to learn about SCF BSN Program and receive answers to your questions. Events will be listed as they are scheduled. Workshops are provided using Microsoft Teams. We recommend using Chrome or Firefox. You should be able to enter through your web browser. \nJOIN THE SESSION
URL:https://www.scf.edu/events/b-s-nursing-information-sessions-3/
LOCATION:Virtual Information Session via Microsoft Teams
CATEGORIES:B.S. Nursing Information Sessions
ATTACH;FMTTYPE=image/jpeg:https://www.scf.edu/wp-content/uploads/2024/12/DSC06612-2.jpg
ORGANIZER;CN="State College of Florida%2C Manatee - Sarasota":MAILTO:Info@SCF.edu
END:VEVENT
BEGIN:VEVENT
DTSTART;TZID=America/New_York:20251105T103000
DTEND;TZID=America/New_York:20251105T113000
DTSTAMP:20260425T075014
CREATED:20251009T183052Z
LAST-MODIFIED:20251009T183052Z
UID:10000671-1762338600-1762342200@www.scf.edu
SUMMARY:Dual Language A.S. Nursing Information Session
DESCRIPTION:Presented by the State College of Florida\, Manatee-Sarasota \nWednesday\, November 5th @ 10:30 a.m. – 11:30 a.m.\nVirtual Information Session via Microsoft Teams \n\nInfo sessions are a great place to learn about SCF ASN Program and receive answers to your questions. Events will be listed as they are scheduled. Workshops are provided using Microsoft Teams. We recommend using Chrome or Firefox. You should be able to enter through your web browser. \nJOIN THE SESSION
URL:https://www.scf.edu/events/dual-language-a-s-nursing-information-session/
LOCATION:Virtual Information Session via Microsoft Teams
CATEGORIES:A.S. Nursing Information Sessions
ATTACH;FMTTYPE=image/jpeg:https://www.scf.edu/wp-content/uploads/2024/12/DSC06612-2.jpg
ORGANIZER;CN="State College of Florida%2C Manatee - Sarasota":MAILTO:Info@SCF.edu
END:VEVENT
BEGIN:VEVENT
DTSTART;TZID=America/New_York:20251105T110000
DTEND;TZID=America/New_York:20251105T120000
DTSTAMP:20260425T075014
CREATED:20251009T183229Z
LAST-MODIFIED:20251009T183229Z
UID:10000672-1762340400-1762344000@www.scf.edu
SUMMARY:A.S. Nursing Information Sessions
DESCRIPTION:Presented by the State College of Florida\, Manatee-Sarasota \nWednesday\, November 5th @ 11:00 a.m. – 12:00 p.m.\nVirtual Information Session via Microsoft Teams \n\nInfo sessions are a great place to learn about SCF ASN Program and receive answers to your questions. Events will be listed as they are scheduled. Workshops are provided using Microsoft Teams. We recommend using Chrome or Firefox. You should be able to enter through your web browser. \nJOIN THE SESSION
URL:https://www.scf.edu/events/a-s-nursing-information-sessions-5/
LOCATION:Virtual Information Session via Microsoft Teams
CATEGORIES:A.S. Nursing Information Sessions
ATTACH;FMTTYPE=image/jpeg:https://www.scf.edu/wp-content/uploads/2024/12/DSC06612-2.jpg
ORGANIZER;CN="State College of Florida%2C Manatee - Sarasota":MAILTO:Info@SCF.edu
END:VEVENT
BEGIN:VEVENT
DTSTART;TZID=America/New_York:20251105T110000
DTEND;TZID=America/New_York:20251105T130000
DTSTAMP:20260425T075014
CREATED:20250718T141313Z
LAST-MODIFIED:20250804T193604Z
UID:10000620-1762340400-1762347600@www.scf.edu
SUMMARY:25th Annual SCF Foundation Scholarship Luncheon
DESCRIPTION:Presented by The State College of Florida Foundation \nWednesday\, November 5th @ 11:00 am – 1:00 pm\nMichael’s on East\, 1212 S. East Ave.\, Sarasota\, FL \n\nJoin us for our signature fall event! 25th Annual SCF Foundation Scholarship Luncheon—a celebration of generosity and achievement. This heartfelt gathering brings together the dedicated donors and remarkable student scholarship recipients whose futures are being shaped through their partnership. Guests are treated to inspiring speeches by event sponsors\, a current scholarship recipient\, a distinguished alumnus\, and the college president. Community leaders\, sponsors\, and stakeholders come together to connect\, share their passion for education\, and support this important cause. \nGuests will hear moving stories from: \n\nA current scholarship recipient\nA distinguished SCF alumnus\nEvent sponsors\nAnd SCF’s president\n\nThis special afternoon honors the partnerships that make scholarships possible—and the bright futures they create. \nBe part of something meaningful. \nBuy Tickets \nSponsorship & Underwriting Opportunities \nFor more information\, contact:\nMadeline Managas\nAdvancement Associate\, Corporate & Community Partnerships\nMangasM@SCF.edu\n941-752-5336
URL:https://www.scf.edu/events/annual-scf-foundation-scholarship-luncheon/
LOCATION:Michael’s on East\, 1212 S. East Ave.\, Sarasota\, FL\, 1212 S. East Ave.\, Sarasota\, FL\, 34239
CATEGORIES:SCF Foundation
ATTACH;FMTTYPE=image/jpeg:https://www.scf.edu/wp-content/uploads/2025/07/scf-foundation-annual-scholarship-luncheon-2025-wide.jpg
ORGANIZER;CN="SCF Foundation":MAILTO:SCFFoundation@SCF.edu
END:VEVENT
BEGIN:VEVENT
DTSTART;TZID=America/New_York:20251105T170000
DTEND;TZID=America/New_York:20251105T180000
DTSTAMP:20260425T075014
CREATED:20250818T132207Z
LAST-MODIFIED:20250818T132223Z
UID:10000636-1762362000-1762365600@www.scf.edu
SUMMARY:Teacher Certification Information Sessions
DESCRIPTION:Presented by the State College of Florida\, Manatee-Sarasota \nWednesday\, November 5\, 2025 @ 5:00p.m. – 6:00p.m.\nVirtual Information Session via Microsoft Teams \n\nInfo sessions are a great place to learn about SCF EPI Program and receive answers to your questions. Events will be listed as they are scheduled. Workshops are provided using Microsoft Teams. We recommend using Chrome or Firefox. You should be able to enter through your web browser. \nJOIN THE SESSION
URL:https://www.scf.edu/events/teacher-certification-information-sessions-3/
LOCATION:Virtual Information Session via Microsoft Teams
CATEGORIES:Teacher Certification Information Sessions
ATTACH;FMTTYPE=image/jpeg:https://www.scf.edu/wp-content/uploads/2024/09/teacher-certification-information-sessions.jpg
ORGANIZER;CN="State College of Florida%2C Manatee - Sarasota":MAILTO:Info@SCF.edu
END:VEVENT
BEGIN:VEVENT
DTSTART;TZID=America/New_York:20251106T190000
DTEND;TZID=America/New_York:20251106T210000
DTSTAMP:20260425T075014
CREATED:20250909T143924Z
LAST-MODIFIED:20250909T143924Z
UID:10000656-1762455600-1762462800@www.scf.edu
SUMMARY:SCF Music Presents A Musical Landscape
DESCRIPTION:Presented by SCF Music \nThursday\, November 6th @ 7:00 p.m.\nSCF Bradenton Campus\, 5840 26th St. West\, Neel Performing Arts Center\, Bldg. 11 East \n\nStep into a vibrant world of sound with the SCF Symphonic Band as they present an exhilarating evening of music. Experience a diverse collection of pieces that showcase the full spectrum of musical expression—energy\, emotion\, and artistry all woven together. Don’t miss this captivating concert that promises to inspire and delight! \nBUY TICKETS
URL:https://www.scf.edu/events/musical-landscape/
LOCATION:SCF Neel Performing Arts Center\, Bldg. 11 East\, 5840 26th St. West\, Bldg. 11 East\, Bradenton\, FL\, 34207\, United States
CATEGORIES:Music,Performing Arts
ATTACH;FMTTYPE=image/jpeg:https://www.scf.edu/wp-content/uploads/2025/09/music-landscape.jpg
ORGANIZER;CN="State College of Florida%2C Manatee - Sarasota":MAILTO:Info@SCF.edu
END:VEVENT
END:VCALENDAR