BEGIN:VCALENDAR
VERSION:2.0
PRODID:-//State College of Florida, Manatee - Sarasota - ECPv6.15.18//NONSGML v1.0//EN
CALSCALE:GREGORIAN
METHOD:PUBLISH
X-WR-CALNAME:State College of Florida, Manatee - Sarasota
X-ORIGINAL-URL:https://www.scf.edu
X-WR-CALDESC:Events for State College of Florida, Manatee - Sarasota
REFRESH-INTERVAL;VALUE=DURATION:PT1H
X-Robots-Tag:noindex
X-PUBLISHED-TTL:PT1H
BEGIN:VTIMEZONE
TZID:America/New_York
BEGIN:DAYLIGHT
TZOFFSETFROM:-0500
TZOFFSETTO:-0400
TZNAME:EDT
DTSTART:20240310T070000
END:DAYLIGHT
BEGIN:STANDARD
TZOFFSETFROM:-0400
TZOFFSETTO:-0500
TZNAME:EST
DTSTART:20241103T060000
END:STANDARD
BEGIN:DAYLIGHT
TZOFFSETFROM:-0500
TZOFFSETTO:-0400
TZNAME:EDT
DTSTART:20250309T070000
END:DAYLIGHT
BEGIN:STANDARD
TZOFFSETFROM:-0400
TZOFFSETTO:-0500
TZNAME:EST
DTSTART:20251102T060000
END:STANDARD
BEGIN:DAYLIGHT
TZOFFSETFROM:-0500
TZOFFSETTO:-0400
TZNAME:EDT
DTSTART:20260308T070000
END:DAYLIGHT
BEGIN:STANDARD
TZOFFSETFROM:-0400
TZOFFSETTO:-0500
TZNAME:EST
DTSTART:20261101T060000
END:STANDARD
END:VTIMEZONE
BEGIN:VEVENT
DTSTART;TZID=America/New_York:20251112T173000
DTEND;TZID=America/New_York:20251112T193000
DTSTAMP:20260424T212546
CREATED:20251007T183059Z
LAST-MODIFIED:20251007T183059Z
UID:10000669-1762968600-1762975800@www.scf.edu
SUMMARY:Veterans Florida x 26 West Networking Event
DESCRIPTION:Presented by The State College of Florida  \nWednesday\, November 12th @ 5:30 pm – 7:30 pm\n26 West Entrepreneurship Center \n\nCome meet with like-minded veterans to talk about starting or growing your business. This free event is an excellent way to meet new people\, connect with friends\, and talk about what is possible with entrepreneurial support from the 26 West Center. Event is open to veterans\, active duty military\, and military spouses. \nOpen to the public – registration is required.\nReserve your spot today and be part of a powerful evening of connection and community \nRegister Now
URL:https://www.scf.edu/events/veterans-networking-event/
LOCATION:26 West Center at SCF Bradenton\, 5840 26th Street West SCF\, Building 8\, Bradenton\, 34207\, United States
CATEGORIES:Lifelong Learning and Workforce Development
ATTACH;FMTTYPE=image/jpeg:https://www.scf.edu/wp-content/uploads/2025/10/veterans-networking.jpg
END:VEVENT
BEGIN:VEVENT
DTSTART;TZID=America/New_York:20251113T190000
DTEND;TZID=America/New_York:20251113T210000
DTSTAMP:20260424T212546
CREATED:20250909T144617Z
LAST-MODIFIED:20250909T144617Z
UID:10000657-1763060400-1763067600@www.scf.edu
SUMMARY:SCF Music Presents Rhapsody in Blues: Gershwin\, Ella\, and Quincy
DESCRIPTION:Presented by SCF Music \nThursday\, November 13th @ 7:00 p.m.\nSCF Bradenton Campus\, 5840 26th St. West\, Neel Performing Arts Center\, Bldg. 11 East \n\nFrom George Gershwin to Ella Fitzgerald and Quincy Jones\, this concert celebrates the best in American big band jazz. Join the SCF Jazz Orchestra and special guest vocalists for night of classics from the Great American Songbook. \nBUY TICKETS
URL:https://www.scf.edu/events/rhapsody-in-blues/
LOCATION:SCF Neel Performing Arts Center\, Bldg. 11 East\, 5840 26th St. West\, Bldg. 11 East\, Bradenton\, FL\, 34207\, United States
CATEGORIES:Music,Performing Arts
ATTACH;FMTTYPE=image/jpeg:https://www.scf.edu/wp-content/uploads/2025/09/rhapsody-in-blues.jpg
ORGANIZER;CN="State College of Florida%2C Manatee - Sarasota":MAILTO:Info@SCF.edu
END:VEVENT
BEGIN:VEVENT
DTSTART;TZID=America/New_York:20251114T200000
DTEND;TZID=America/New_York:20251114T220000
DTSTAMP:20260424T212546
CREATED:20251006T195800Z
LAST-MODIFIED:20251006T195800Z
UID:10000663-1763150400-1763157600@www.scf.edu
SUMMARY:SCF Theatre Presents Everyman- A Morality Play by Sarah Frankel
DESCRIPTION:SCF Bradenton Campus\, 5840 26th St. West\, Howard Studio Theatre\, Bldg. 11 West \n\nEveryman – A Morality Play by Sarah Frankel is a modern retelling of the 15th Century English Morality Play. A fresh look at this classic allegory tells the tale of “Everyman” who has been visited by “Death” and sent on a journey to discover who will go with him to meet his maker. Set on a college campus in the year 2020\, this contemporary story allows us to reflect on what we hold most dear in this life. \nBuy Tickets \n  \n 
URL:https://www.scf.edu/events/everyman-a-morality-play-by-sarah-frankel/2025-11-14/
LOCATION:Howard Studio Theatre\, Bldg. 11 West\, 5840 26th St. West\, Bldg. 11 West\, Bradenton\, FL\, 34207\, United States
CATEGORIES:Performing Arts,Theatre
ATTACH;FMTTYPE=image/jpeg:https://www.scf.edu/wp-content/uploads/2025/10/everymansquareimage.jpg
END:VEVENT
BEGIN:VEVENT
DTSTART;TZID=America/New_York:20251115T200000
DTEND;TZID=America/New_York:20251115T220000
DTSTAMP:20260424T212546
CREATED:20251006T195800Z
LAST-MODIFIED:20251006T195800Z
UID:10000664-1763236800-1763244000@www.scf.edu
SUMMARY:SCF Theatre Presents Everyman- A Morality Play by Sarah Frankel
DESCRIPTION:SCF Bradenton Campus\, 5840 26th St. West\, Howard Studio Theatre\, Bldg. 11 West \n\nEveryman – A Morality Play by Sarah Frankel is a modern retelling of the 15th Century English Morality Play. A fresh look at this classic allegory tells the tale of “Everyman” who has been visited by “Death” and sent on a journey to discover who will go with him to meet his maker. Set on a college campus in the year 2020\, this contemporary story allows us to reflect on what we hold most dear in this life. \nBuy Tickets \n  \n 
URL:https://www.scf.edu/events/everyman-a-morality-play-by-sarah-frankel/2025-11-15/
LOCATION:Howard Studio Theatre\, Bldg. 11 West\, 5840 26th St. West\, Bldg. 11 West\, Bradenton\, FL\, 34207\, United States
CATEGORIES:Performing Arts,Theatre
ATTACH;FMTTYPE=image/jpeg:https://www.scf.edu/wp-content/uploads/2025/10/everymansquareimage.jpg
END:VEVENT
BEGIN:VEVENT
DTSTART;TZID=America/New_York:20251116T140000
DTEND;TZID=America/New_York:20251116T160000
DTSTAMP:20260424T212546
CREATED:20251006T195800Z
LAST-MODIFIED:20251006T195800Z
UID:10000665-1763301600-1763308800@www.scf.edu
SUMMARY:SCF Theatre Presents Everyman- A Morality Play by Sarah Frankel
DESCRIPTION:SCF Bradenton Campus\, 5840 26th St. West\, Howard Studio Theatre\, Bldg. 11 West \n\nEveryman – A Morality Play by Sarah Frankel is a modern retelling of the 15th Century English Morality Play. A fresh look at this classic allegory tells the tale of “Everyman” who has been visited by “Death” and sent on a journey to discover who will go with him to meet his maker. Set on a college campus in the year 2020\, this contemporary story allows us to reflect on what we hold most dear in this life. \nBuy Tickets \n  \n 
URL:https://www.scf.edu/events/everyman-a-morality-play-by-sarah-frankel/2025-11-16/
LOCATION:Howard Studio Theatre\, Bldg. 11 West\, 5840 26th St. West\, Bldg. 11 West\, Bradenton\, FL\, 34207\, United States
CATEGORIES:Performing Arts,Theatre
ATTACH;FMTTYPE=image/jpeg:https://www.scf.edu/wp-content/uploads/2025/10/everymansquareimage.jpg
END:VEVENT
END:VCALENDAR