BEGIN:VCALENDAR
VERSION:2.0
PRODID:-//State College of Florida, Manatee - Sarasota - ECPv6.15.18//NONSGML v1.0//EN
CALSCALE:GREGORIAN
METHOD:PUBLISH
X-ORIGINAL-URL:https://www.scf.edu
X-WR-CALDESC:Events for State College of Florida, Manatee - Sarasota
REFRESH-INTERVAL;VALUE=DURATION:PT1H
X-Robots-Tag:noindex
X-PUBLISHED-TTL:PT1H
BEGIN:VTIMEZONE
TZID:America/New_York
BEGIN:DAYLIGHT
TZOFFSETFROM:-0500
TZOFFSETTO:-0400
TZNAME:EDT
DTSTART:20250309T070000
END:DAYLIGHT
BEGIN:STANDARD
TZOFFSETFROM:-0400
TZOFFSETTO:-0500
TZNAME:EST
DTSTART:20251102T060000
END:STANDARD
BEGIN:DAYLIGHT
TZOFFSETFROM:-0500
TZOFFSETTO:-0400
TZNAME:EDT
DTSTART:20260308T070000
END:DAYLIGHT
BEGIN:STANDARD
TZOFFSETFROM:-0400
TZOFFSETTO:-0500
TZNAME:EST
DTSTART:20261101T060000
END:STANDARD
BEGIN:DAYLIGHT
TZOFFSETFROM:-0500
TZOFFSETTO:-0400
TZNAME:EDT
DTSTART:20270314T070000
END:DAYLIGHT
BEGIN:STANDARD
TZOFFSETFROM:-0400
TZOFFSETTO:-0500
TZNAME:EST
DTSTART:20271107T060000
END:STANDARD
END:VTIMEZONE
BEGIN:VEVENT
DTSTART;TZID=America/New_York:20260131T150000
DTEND;TZID=America/New_York:20260131T150000
DTSTAMP:20260425T100351
CREATED:20250527T163149Z
LAST-MODIFIED:20250527T163149Z
UID:10000611-1769871600-1769871600@www.scf.edu
SUMMARY:Manatee Community Concert Band Presents New Year New Adventures
DESCRIPTION:Presented by Manatee Community Concert Band \nSaturday\, January 31st @ 3:00 p.m.\nSCF Bradenton Campus\, 5840 26th St. West\, Neel Performing Arts Center\, Bldg. 11 East \n\nRing the New Year with the Manatee Community Concert Band at the Neel Performing Arts Center! \nBUY TICKETS
URL:https://www.scf.edu/events/manatee-community-concert-band-presents-new-year-new-adventures/
LOCATION:SCF Neel Performing Arts Center\, Bldg. 11 East\, 5840 26th St. West\, Bldg. 11 East\, Bradenton\, FL\, 34207\, United States
CATEGORIES:Music,Performing Arts
ATTACH;FMTTYPE=image/jpeg:https://www.scf.edu/wp-content/uploads/2025/05/mccb-new-year-new-adventures.jpg
ORGANIZER;CN="Manatee Community Concert Band":MAILTO:lynncleary@manateeconcertband.org
END:VEVENT
END:VCALENDAR