BEGIN:VCALENDAR
VERSION:2.0
PRODID:-//State College of Florida, Manatee - Sarasota - ECPv6.15.18//NONSGML v1.0//EN
CALSCALE:GREGORIAN
METHOD:PUBLISH
X-ORIGINAL-URL:https://www.scf.edu
X-WR-CALDESC:Events for State College of Florida, Manatee - Sarasota
REFRESH-INTERVAL;VALUE=DURATION:PT1H
X-Robots-Tag:noindex
X-PUBLISHED-TTL:PT1H
BEGIN:VTIMEZONE
TZID:America/New_York
BEGIN:DAYLIGHT
TZOFFSETFROM:-0500
TZOFFSETTO:-0400
TZNAME:EDT
DTSTART:20250309T070000
END:DAYLIGHT
BEGIN:STANDARD
TZOFFSETFROM:-0400
TZOFFSETTO:-0500
TZNAME:EST
DTSTART:20251102T060000
END:STANDARD
BEGIN:DAYLIGHT
TZOFFSETFROM:-0500
TZOFFSETTO:-0400
TZNAME:EDT
DTSTART:20260308T070000
END:DAYLIGHT
BEGIN:STANDARD
TZOFFSETFROM:-0400
TZOFFSETTO:-0500
TZNAME:EST
DTSTART:20261101T060000
END:STANDARD
BEGIN:DAYLIGHT
TZOFFSETFROM:-0500
TZOFFSETTO:-0400
TZNAME:EDT
DTSTART:20270314T070000
END:DAYLIGHT
BEGIN:STANDARD
TZOFFSETFROM:-0400
TZOFFSETTO:-0500
TZNAME:EST
DTSTART:20271107T060000
END:STANDARD
END:VTIMEZONE
BEGIN:VEVENT
DTSTART;TZID=America/New_York:20260207T173000
DTEND;TZID=America/New_York:20260207T210000
DTSTAMP:20260424T191138
CREATED:20250808T172638Z
LAST-MODIFIED:20250808T172638Z
UID:10000623-1770485400-1770498000@www.scf.edu
SUMMARY:Avenues to the Future: Bourbon\, Brews & BBQ
DESCRIPTION:We’re excited to bring back Bourbon\, Brews & BBQ as part of this year’s Avenues to the Future celebration! Join us on the evening of February 7\, 2026\, at our Bradenton campus for an unforgettable evening filled with rich flavors\, great company\, and a powerful purpose. \nEnjoy a curated selection of fine bourbons and craft brews\, indulge in savory appetizers\, and soak in the sounds of live music. You’ll also have the chance to hear a student’s inspiring story and discover how our college is shaping futures. \nCome raise a glass with us—for a night of celebration and support that truly makes a difference.
URL:https://www.scf.edu/events/avenues-to-the-future-bourbon-brews-bbq/
LOCATION:Events at the SCF Bradenton Campus\, 5840 26th St. West\, Bradenton\, FL\, 34207\, United States
CATEGORIES:SCF Foundation
ATTACH;FMTTYPE=image/png:https://www.scf.edu/wp-content/uploads/2025/08/scf-foundation-bbb.png
ORGANIZER;CN="SCF Foundation":MAILTO:SCFFoundation@SCF.edu
END:VEVENT
BEGIN:VEVENT
DTSTART;TZID=America/New_York:20260208T130000
DTEND;TZID=America/New_York:20260208T143000
DTSTAMP:20260424T191138
CREATED:20251010T180808Z
LAST-MODIFIED:20251010T180808Z
UID:10000674-1770555600-1770561000@www.scf.edu
SUMMARY:Manatee Opera Guild Stars of Tomorrow
DESCRIPTION:Presented by The Manatee Opera Guild \nSunday\, February 8th @ 1:00 p.m.\nSCF Bradenton Campus\, 5840 26th St. West\, Neel Performing Arts Center\, Bldg. 11 East \n\nThe Stars of Tomorrow Concert is a dazzling musical offering of 24 singers with enchanting voices. They are the upcoming generation of the finest opera stars. They sparkle from across the globe. As the singers begin their professional operatic careers\, they have been carefully chosen from hundreds of candidates to be Apprentice Artists with the world renowned Sarasota Opera. The brilliant musical experience they will gain from singing at Sarasota Opera will most likely be a launching pad for them for additional national and international opera companies. Even more special is that this is a glowing year for Sarasota Opera. It celebrates 100 years of presenting fine opera to Sarasota and to surrounding communities. The Apprentice Artists appear in the 2025-2026 Sarasota Opera performances. \nThe Manatee Opera Guild sponsors this event to bring opera to Manatee County in a concert style instead of a fully staged opera. You will be captivated by their voices as they sing solo arias and various ensembles from the operatic repertoire\, and the singers will be accompanied by stellar pianists. The concert duration is roughly 60-90 minutes. \nWe look forward to seeing you at this showcase of award-winning voices. The singers will be available to meet and greet the audience members after the concert in the lobby. \nPlease\, come\, wish upon a star\, and purchase your tickets now to reserve your spot. You may even consider giving tickets as holiday gifts. We hope to see you there! \nGeneral Admission Tickets: $30 / Student General Admission: Complimentary @ Box Office with Student ID \nThe Stars of Tomorrow concert has been generously underwritten by: The ELZER ADVISORY GROUP Merrill Lynch \nBUY TICKETS
URL:https://www.scf.edu/events/mog-stars-of-tomorrow/
LOCATION:SCF Neel Performing Arts Center\, Bldg. 11 East\, 5840 26th St. West\, Bldg. 11 East\, Bradenton\, FL\, 34207\, United States
CATEGORIES:Music,Performing Arts
ATTACH;FMTTYPE=image/png:https://www.scf.edu/wp-content/uploads/2025/10/MOG-Stars-of-Tomorrow.png
END:VEVENT
END:VCALENDAR