BEGIN:VCALENDAR
VERSION:2.0
PRODID:-//State College of Florida, Manatee - Sarasota - ECPv6.15.18//NONSGML v1.0//EN
CALSCALE:GREGORIAN
METHOD:PUBLISH
X-ORIGINAL-URL:https://www.scf.edu
X-WR-CALDESC:Events for State College of Florida, Manatee - Sarasota
REFRESH-INTERVAL;VALUE=DURATION:PT1H
X-Robots-Tag:noindex
X-PUBLISHED-TTL:PT1H
BEGIN:VTIMEZONE
TZID:America/New_York
BEGIN:DAYLIGHT
TZOFFSETFROM:-0500
TZOFFSETTO:-0400
TZNAME:EDT
DTSTART:20250309T070000
END:DAYLIGHT
BEGIN:STANDARD
TZOFFSETFROM:-0400
TZOFFSETTO:-0500
TZNAME:EST
DTSTART:20251102T060000
END:STANDARD
BEGIN:DAYLIGHT
TZOFFSETFROM:-0500
TZOFFSETTO:-0400
TZNAME:EDT
DTSTART:20260308T070000
END:DAYLIGHT
BEGIN:STANDARD
TZOFFSETFROM:-0400
TZOFFSETTO:-0500
TZNAME:EST
DTSTART:20261101T060000
END:STANDARD
BEGIN:DAYLIGHT
TZOFFSETFROM:-0500
TZOFFSETTO:-0400
TZNAME:EDT
DTSTART:20270314T070000
END:DAYLIGHT
BEGIN:STANDARD
TZOFFSETFROM:-0400
TZOFFSETTO:-0500
TZNAME:EST
DTSTART:20271107T060000
END:STANDARD
END:VTIMEZONE
BEGIN:VEVENT
DTSTART;TZID=America/New_York:20260218T100000
DTEND;TZID=America/New_York:20260218T120000
DTSTAMP:20260424T164848
CREATED:20250225T180400Z
LAST-MODIFIED:20260115T150446Z
UID:10000585-1771408800-1771416000@www.scf.edu
SUMMARY:SCF Grad Fair
DESCRIPTION:Presented by the State College of Florida\, Manatee-Sarasota \nWednesday\, February 18th @ 10:00 a.m. – 12:00 p.m.\nSCF Bradenton Campus\, Student Union\, Building 14\, 5840 26th St. West \n\nSCF is excited to host our Grad Fair—a must-attend event for all graduating students! Whether you’re set to graduate this semester or looking ahead to future commencement ceremonies\, this event has everything you need to prepare for your big day. From verifying your graduation status to shopping for regalia and connecting with valuable post-graduation resources\, the Grad Fair is your all-in-one stop for a seamless commencement experience. \nWhy Attend the Grad Fair?\n Get all your graduation questions answered in one place\n Ensure you’re fully prepared for commencement\n Shop for must-have graduation items\n Gain valuable insights for post-graduation success\n Have fun and celebrate this exciting milestone! \nDon’t miss this opportunity to make your graduation experience smooth and memorable. See you at the Grad Fair!
URL:https://www.scf.edu/events/scf-grad-fair/
LOCATION:Events at the SCF Bradenton Campus\, 5840 26th St. West\, Bradenton\, FL\, 34207\, United States
CATEGORIES:Grad Fair
ATTACH;FMTTYPE=image/jpeg:https://www.scf.edu/wp-content/uploads/2025/02/GRAD-SM_-Final_01_14_26.jpg
ORGANIZER;CN="State College of Florida%2C Manatee - Sarasota":MAILTO:Info@SCF.edu
END:VEVENT
BEGIN:VEVENT
DTSTART;TZID=America/New_York:20260220T200000
DTEND;TZID=America/New_York:20260220T220000
DTSTAMP:20260424T164848
CREATED:20260126T192754Z
LAST-MODIFIED:20260126T192754Z
UID:10000698-1771617600-1771624800@www.scf.edu
SUMMARY:SCF Theatre Presents A Rock Sails By By Sean Grennan
DESCRIPTION:SCF Theatre Presents \nEvent Date & Time:\nFriday\, February 20th @ 8pm\nSaturday\, February 21st @ 8pm\nSunday\, February 22nd @ 2pm\nFriday\, February 27th @ 8pm\nSaturday\, February 28th @ 8pm\nSunday\, March 1st @ 2pm \nHoward Studio Theatre\, Bldg. 11 West\, Rm. 163\n \n\nJoin us in the Howard Studio Theatre for SCF Theatre’s presentation of A Rock Sails By written by Sean Grennan. Performance dates are February 20th\, 21st\, 27th & 28th at 8pm and February 22nd & March 1st @ 2pm. \nBUY TICKETS
URL:https://www.scf.edu/events/scf-theatre-presents-a-rock-sails-by-by-sean-grennan/2026-02-20/
LOCATION:Howard Studio Theatre\, Bldg. 11 West\, 5840 26th St. West\, Bldg. 11 West\, Bradenton\, FL\, 34207\, United States
CATEGORIES:Performing Arts,Theatre
ATTACH;FMTTYPE=image/jpeg:https://www.scf.edu/wp-content/uploads/2026/01/ARockSails.jpg
END:VEVENT
BEGIN:VEVENT
DTSTART;TZID=America/New_York:20260221T200000
DTEND;TZID=America/New_York:20260221T220000
DTSTAMP:20260424T164848
CREATED:20260126T192754Z
LAST-MODIFIED:20260126T192754Z
UID:10000699-1771704000-1771711200@www.scf.edu
SUMMARY:SCF Theatre Presents A Rock Sails By By Sean Grennan
DESCRIPTION:SCF Theatre Presents \nEvent Date & Time:\nFriday\, February 20th @ 8pm\nSaturday\, February 21st @ 8pm\nSunday\, February 22nd @ 2pm\nFriday\, February 27th @ 8pm\nSaturday\, February 28th @ 8pm\nSunday\, March 1st @ 2pm \nHoward Studio Theatre\, Bldg. 11 West\, Rm. 163\n \n\nJoin us in the Howard Studio Theatre for SCF Theatre’s presentation of A Rock Sails By written by Sean Grennan. Performance dates are February 20th\, 21st\, 27th & 28th at 8pm and February 22nd & March 1st @ 2pm. \nBUY TICKETS
URL:https://www.scf.edu/events/scf-theatre-presents-a-rock-sails-by-by-sean-grennan/2026-02-21/
LOCATION:Howard Studio Theatre\, Bldg. 11 West\, 5840 26th St. West\, Bldg. 11 West\, Bradenton\, FL\, 34207\, United States
CATEGORIES:Performing Arts,Theatre
ATTACH;FMTTYPE=image/jpeg:https://www.scf.edu/wp-content/uploads/2026/01/ARockSails.jpg
END:VEVENT
BEGIN:VEVENT
DTSTART;TZID=America/New_York:20260222T140000
DTEND;TZID=America/New_York:20260222T160000
DTSTAMP:20260424T164848
CREATED:20260126T192754Z
LAST-MODIFIED:20260126T192754Z
UID:10000700-1771768800-1771776000@www.scf.edu
SUMMARY:SCF Theatre Presents A Rock Sails By By Sean Grennan
DESCRIPTION:SCF Theatre Presents \nEvent Date & Time:\nFriday\, February 20th @ 8pm\nSaturday\, February 21st @ 8pm\nSunday\, February 22nd @ 2pm\nFriday\, February 27th @ 8pm\nSaturday\, February 28th @ 8pm\nSunday\, March 1st @ 2pm \nHoward Studio Theatre\, Bldg. 11 West\, Rm. 163\n \n\nJoin us in the Howard Studio Theatre for SCF Theatre’s presentation of A Rock Sails By written by Sean Grennan. Performance dates are February 20th\, 21st\, 27th & 28th at 8pm and February 22nd & March 1st @ 2pm. \nBUY TICKETS
URL:https://www.scf.edu/events/scf-theatre-presents-a-rock-sails-by-by-sean-grennan/2026-02-22/
LOCATION:Howard Studio Theatre\, Bldg. 11 West\, 5840 26th St. West\, Bldg. 11 West\, Bradenton\, FL\, 34207\, United States
CATEGORIES:Performing Arts,Theatre
ATTACH;FMTTYPE=image/jpeg:https://www.scf.edu/wp-content/uploads/2026/01/ARockSails.jpg
END:VEVENT
END:VCALENDAR