BEGIN:VCALENDAR
VERSION:2.0
PRODID:-//State College of Florida, Manatee - Sarasota - ECPv6.15.18//NONSGML v1.0//EN
CALSCALE:GREGORIAN
METHOD:PUBLISH
X-WR-CALNAME:State College of Florida, Manatee - Sarasota
X-ORIGINAL-URL:https://www.scf.edu
X-WR-CALDESC:Events for State College of Florida, Manatee - Sarasota
REFRESH-INTERVAL;VALUE=DURATION:PT1H
X-Robots-Tag:noindex
X-PUBLISHED-TTL:PT1H
BEGIN:VTIMEZONE
TZID:America/New_York
BEGIN:DAYLIGHT
TZOFFSETFROM:-0500
TZOFFSETTO:-0400
TZNAME:EDT
DTSTART:20250309T070000
END:DAYLIGHT
BEGIN:STANDARD
TZOFFSETFROM:-0400
TZOFFSETTO:-0500
TZNAME:EST
DTSTART:20251102T060000
END:STANDARD
BEGIN:DAYLIGHT
TZOFFSETFROM:-0500
TZOFFSETTO:-0400
TZNAME:EDT
DTSTART:20260308T070000
END:DAYLIGHT
BEGIN:STANDARD
TZOFFSETFROM:-0400
TZOFFSETTO:-0500
TZNAME:EST
DTSTART:20261101T060000
END:STANDARD
BEGIN:DAYLIGHT
TZOFFSETFROM:-0500
TZOFFSETTO:-0400
TZNAME:EDT
DTSTART:20270314T070000
END:DAYLIGHT
BEGIN:STANDARD
TZOFFSETFROM:-0400
TZOFFSETTO:-0500
TZNAME:EST
DTSTART:20271107T060000
END:STANDARD
END:VTIMEZONE
BEGIN:VEVENT
DTSTART;TZID=America/New_York:20260314T193000
DTEND;TZID=America/New_York:20260314T220000
DTSTAMP:20260424T164513
CREATED:20250812T173353Z
LAST-MODIFIED:20250814T134612Z
UID:10000626-1773516600-1773525600@www.scf.edu
SUMMARY:Fleetwood Gold- America's Fleetwood Mac Experience- Amplified!
DESCRIPTION:Saturday\, March 14th @ 7:30pm\nSunday\, March 15th @ 3:00pm\nSCF Bradenton Campus\, 5840 26th St. West\, Neel Performing Arts Center\, Bldg. 11 East \n\nReturning to Bradenton\, Florida by popular demand! \nThis year’s show is something special—The Fleetwood Mac Experience: AMPLIFIED! We’ve added a live string section\, bringing new depth and emotion to the music you love. Every note is performed 100% live—no backing tracks\, no tricks. It’s still the same high-energy Fleetwood Gold show—now elevated with strings woven into nearly every song. The experience you know… amplified.” \nFleetwood Gold is the most-followed Fleetwood Mac tribute band in the Midwest\, performing for over 50\,000 fans in the past year and with more than 20\,000 followers across social media. \nThe band is led by two-time national blues guitar champion Chris Shutters (Lindsey)\, along with Columbus\, Ohio-based singer-songwriters Erika Prehm (Stevie)\, Sara Reat (Christine)\, Mike Ebner (John McVie) and Chad Lester (Mick Fleetwood). Fleetwood Gold takes audiences on a journey through the entire Fleetwood Mac legacy — from the early blues of Peter Green to Stevie Nicks’ solo hits. With stunning harmonies\, powerful vocals\, and musical precision\, Fleetwood Gold continues to set itself apart from other tribute acts. \nExpect to hear fan favorites like: Go Your Own Way\, Rhiannon\, Say You Love Me\, Stop Draggin’ My Heart Around\, The Chain\, Never Going Back Again\, Landslide\, Don’t Stop\, Everywhere\, Dreams\, Oh Well\, Tusk\, Black Magic Woman\, Gold Dust Woman\, and more (setlist subject to change). \nExperience the magic of Fleetwood Gold — now elevated by the cinematic sound of strings! \nBuy Tickets \n  \n 
URL:https://www.scf.edu/events/fleetwood-gold-americas-fleetwood-mac-experience-amplified/2026-03-14/
LOCATION:SCF Neel Performing Arts Center\, Bldg. 11 East\, 5840 26th St. West\, Bldg. 11 East\, Bradenton\, FL\, 34207\, United States
CATEGORIES:Music,Performing Arts
ATTACH;FMTTYPE=image/jpeg:https://www.scf.edu/wp-content/uploads/2025/08/Fleetwood-Gold.jpg
ORGANIZER;CN="State College of Florida%2C Manatee - Sarasota":MAILTO:Info@SCF.edu
END:VEVENT
BEGIN:VEVENT
DTSTART;TZID=America/New_York:20260315T150000
DTEND;TZID=America/New_York:20260315T173000
DTSTAMP:20260424T164513
CREATED:20250812T173353Z
LAST-MODIFIED:20250814T134612Z
UID:10000627-1773586800-1773595800@www.scf.edu
SUMMARY:Fleetwood Gold- America's Fleetwood Mac Experience- Amplified!
DESCRIPTION:Saturday\, March 14th @ 7:30pm\nSunday\, March 15th @ 3:00pm\nSCF Bradenton Campus\, 5840 26th St. West\, Neel Performing Arts Center\, Bldg. 11 East \n\nReturning to Bradenton\, Florida by popular demand! \nThis year’s show is something special—The Fleetwood Mac Experience: AMPLIFIED! We’ve added a live string section\, bringing new depth and emotion to the music you love. Every note is performed 100% live—no backing tracks\, no tricks. It’s still the same high-energy Fleetwood Gold show—now elevated with strings woven into nearly every song. The experience you know… amplified.” \nFleetwood Gold is the most-followed Fleetwood Mac tribute band in the Midwest\, performing for over 50\,000 fans in the past year and with more than 20\,000 followers across social media. \nThe band is led by two-time national blues guitar champion Chris Shutters (Lindsey)\, along with Columbus\, Ohio-based singer-songwriters Erika Prehm (Stevie)\, Sara Reat (Christine)\, Mike Ebner (John McVie) and Chad Lester (Mick Fleetwood). Fleetwood Gold takes audiences on a journey through the entire Fleetwood Mac legacy — from the early blues of Peter Green to Stevie Nicks’ solo hits. With stunning harmonies\, powerful vocals\, and musical precision\, Fleetwood Gold continues to set itself apart from other tribute acts. \nExpect to hear fan favorites like: Go Your Own Way\, Rhiannon\, Say You Love Me\, Stop Draggin’ My Heart Around\, The Chain\, Never Going Back Again\, Landslide\, Don’t Stop\, Everywhere\, Dreams\, Oh Well\, Tusk\, Black Magic Woman\, Gold Dust Woman\, and more (setlist subject to change). \nExperience the magic of Fleetwood Gold — now elevated by the cinematic sound of strings! \nBuy Tickets \n  \n 
URL:https://www.scf.edu/events/fleetwood-gold-americas-fleetwood-mac-experience-amplified/2026-03-15/
LOCATION:SCF Neel Performing Arts Center\, Bldg. 11 East\, 5840 26th St. West\, Bldg. 11 East\, Bradenton\, FL\, 34207\, United States
CATEGORIES:Music,Performing Arts
ATTACH;FMTTYPE=image/jpeg:https://www.scf.edu/wp-content/uploads/2025/08/Fleetwood-Gold.jpg
ORGANIZER;CN="State College of Florida%2C Manatee - Sarasota":MAILTO:Info@SCF.edu
END:VEVENT
END:VCALENDAR