BEGIN:VCALENDAR
VERSION:2.0
PRODID:-//State College of Florida, Manatee - Sarasota - ECPv6.15.18//NONSGML v1.0//EN
CALSCALE:GREGORIAN
METHOD:PUBLISH
X-WR-CALNAME:State College of Florida, Manatee - Sarasota
X-ORIGINAL-URL:https://www.scf.edu
X-WR-CALDESC:Events for State College of Florida, Manatee - Sarasota
REFRESH-INTERVAL;VALUE=DURATION:PT1H
X-Robots-Tag:noindex
X-PUBLISHED-TTL:PT1H
BEGIN:VTIMEZONE
TZID:America/New_York
BEGIN:DAYLIGHT
TZOFFSETFROM:-0500
TZOFFSETTO:-0400
TZNAME:EDT
DTSTART:20250309T070000
END:DAYLIGHT
BEGIN:STANDARD
TZOFFSETFROM:-0400
TZOFFSETTO:-0500
TZNAME:EST
DTSTART:20251102T060000
END:STANDARD
BEGIN:DAYLIGHT
TZOFFSETFROM:-0500
TZOFFSETTO:-0400
TZNAME:EDT
DTSTART:20260308T070000
END:DAYLIGHT
BEGIN:STANDARD
TZOFFSETFROM:-0400
TZOFFSETTO:-0500
TZNAME:EST
DTSTART:20261101T060000
END:STANDARD
BEGIN:DAYLIGHT
TZOFFSETFROM:-0500
TZOFFSETTO:-0400
TZNAME:EDT
DTSTART:20270314T070000
END:DAYLIGHT
BEGIN:STANDARD
TZOFFSETFROM:-0400
TZOFFSETTO:-0500
TZNAME:EST
DTSTART:20271107T060000
END:STANDARD
END:VTIMEZONE
BEGIN:VEVENT
DTSTART;TZID=America/New_York:20260323T190000
DTEND;TZID=America/New_York:20260323T203000
DTSTAMP:20260423T204203
CREATED:20251112T183830Z
LAST-MODIFIED:20251112T183830Z
UID:10000685-1774292400-1774297800@www.scf.edu
SUMMARY:SCF Music Presents Community Piano Recital
DESCRIPTION:Presented by SCF Music \nMonday\, March 23rd @ 7:00 p.m.\nSCF Bradenton Campus\, 5840 26th St. West\, SCF Recital Hall / 11A \n\nJoin us for a free\, heartwarming evening of music featuring performers from across the community — with a special spotlight on our youngest musicians! This popular recital showcases students of all ages and experience levels\, though you’ll see plenty of rising stars taking the stage for the very first time. Come support the next generation of talent and enjoy an inspiring night of music\, growth\, and community spirit. \nTeachers: Have students ready to perform? We’d love to include them! Please contact Don Bryn to submit performance details. \nFREE EVENT
URL:https://www.scf.edu/events/community-piano-recital-3/
LOCATION:Studio for the Performing Arts Recital Hall\, Bldg. 11A\, 5840 26th St. West\, Bldg. 11A\, Bradenton\, FL\, 34207\, United States
CATEGORIES:Music,Performing Arts
ATTACH;FMTTYPE=image/jpeg:https://www.scf.edu/wp-content/uploads/2025/11/Community-Piano-Recital2.jpg
END:VEVENT
BEGIN:VEVENT
DTSTART;TZID=America/New_York:20260326T100000
DTEND;TZID=America/New_York:20260326T103000
DTSTAMP:20260423T204203
CREATED:20260205T151102Z
LAST-MODIFIED:20260205T151102Z
UID:10000711-1774519200-1774521000@www.scf.edu
SUMMARY:Sesión Informativa: Programa de Enfermería Bilingüe
DESCRIPTION:Presented by the State College of Florida\, Manatee-Sarasota \nThursday\, March 26th @ 10:00 a.m. – 10:30 a.m.\nVirtual Information Session via Microsoft Teams \n\nInfo sessions are a great place to learn about SCF ASN Program and receive answers to your questions. Events will be listed as they are scheduled. Workshops are provided using Microsoft Teams. We recommend using Chrome or Firefox. You should be able to enter through your web browser. \nJOIN THE SESSION
URL:https://www.scf.edu/events/sesion-informativa-programa-de-enfermeria-bilingue-5/
LOCATION:Virtual Information Session via Microsoft Teams
CATEGORIES:A.S. Nursing Information Sessions
ATTACH;FMTTYPE=image/jpeg:https://www.scf.edu/wp-content/uploads/2024/12/DSC06612-2.jpg
ORGANIZER;CN="State College of Florida%2C Manatee - Sarasota":MAILTO:Info@SCF.edu
END:VEVENT
BEGIN:VEVENT
DTSTART;TZID=America/New_York:20260326T110000
DTEND;TZID=America/New_York:20260326T120000
DTSTAMP:20260423T204203
CREATED:20260205T151915Z
LAST-MODIFIED:20260205T151915Z
UID:10000718-1774522800-1774526400@www.scf.edu
SUMMARY:A.S. Nursing Information Sessions
DESCRIPTION:Presented by the State College of Florida\, Manatee-Sarasota \nThursday\, March 26th @ 11:00 a.m. – 12:00 p.m.\nVirtual Information Session via Microsoft Teams \n\nInfo sessions are a great place to learn about SCF ASN Program and receive answers to your questions. Events will be listed as they are scheduled. Workshops are provided using Microsoft Teams. We recommend using Chrome or Firefox. You should be able to enter through your web browser. \nJOIN THE SESSION
URL:https://www.scf.edu/events/a-s-nursing-information-sessions-10/
LOCATION:Virtual Information Session via Microsoft Teams
CATEGORIES:A.S. Nursing Information Sessions
ATTACH;FMTTYPE=image/jpeg:https://www.scf.edu/wp-content/uploads/2024/12/DSC06612-2.jpg
ORGANIZER;CN="State College of Florida%2C Manatee - Sarasota":MAILTO:Info@SCF.edu
END:VEVENT
BEGIN:VEVENT
DTSTART;TZID=America/New_York:20260326T110000
DTEND;TZID=America/New_York:20260326T130000
DTSTAMP:20260423T204203
CREATED:20260213T145117Z
LAST-MODIFIED:20260213T145117Z
UID:10000725-1774522800-1774530000@www.scf.edu
SUMMARY:Join Us for the OTA Open House at SCF!
DESCRIPTION:Presented by the State College of Florida\, Manatee-Sarasota \nThursday\, March 26th\, 11:00 a.m. – 1:00 p.m.\nSCF Bradenton Campus\, 5840 26th St. West Building 28 – OTA Classroom \n\nDiscover how SCF can help shape your future! \nThis exciting event is designed for future students\, families\, and community members to explore everything SCF’s Occupational Therapy Assistant program offers. Whether you’re passionate about a healthcare career or simply curious about this dynamic field\, this event is for you. \n\nMeet the OTA Director and Faculty\nChat with current students\nTour our state-of-the-art OTA classroom\n\n✨ Passionate about making a difference? \nOur Occupational Therapy Assistant program prepares you to transform lives through care and compassion. Learn how SCF’s cutting-edge curriculum\, hands-on training\, and expert mentorship can set you on the path to a rewarding career in occupational therapy. \n\nPersonalized mentorship ✅\nAffordable tuition ✅\nFlexible schedules ✅\n\nSCF’s OTA program is the perfect choice for starting your journey in healthcare. \nQuestions? We’re here to help! \nOTA.Admissions@SCF.edu or 941-752-5346
URL:https://www.scf.edu/events/join-us-for-the-ota-open-house-at-scf-2/
LOCATION:Events at the SCF Bradenton Campus\, 5840 26th St. West\, Bradenton\, FL\, 34207\, United States
CATEGORIES:Occupational Therapy Assistant,Open House
ATTACH;FMTTYPE=image/jpeg:https://www.scf.edu/wp-content/uploads/2026/02/open-house-flyer-for-webpage-2026.jpg
ORGANIZER;CN="State College of Florida%2C Manatee - Sarasota":MAILTO:Info@SCF.edu
END:VEVENT
BEGIN:VEVENT
DTSTART;TZID=America/New_York:20260326T190000
DTEND;TZID=America/New_York:20260326T210000
DTSTAMP:20260423T204203
CREATED:20251107T152047Z
LAST-MODIFIED:20251107T152047Z
UID:10000682-1774551600-1774558800@www.scf.edu
SUMMARY:SCF Music Presents The Beatles and The British Invasion with Special Guest\, La Lucha
DESCRIPTION:Presented by SCF Jazz Orchestra and Jazz Messengers \nThursday\, March 26th @ 7:00 p.m.\nSCF Bradenton Campus\, 5840 26th St. West\, Neel Performing Arts Center\, Bldg. 11 East \n\nJoin the SCF Jazz Orchestra for flight from Harlem to London as Dr. Carney and SCF Jazz swing the Fab 4 into the Neel. From the Beatles in the 60’s\, to Sting in the 90’s\, or Adele today\, the Brits have always cooked up a catchy tune. Whether you’re a fan of Eleanor Rigby or Ella Fitzgerald\, this show promises a swinging Beatlemania. \nBUY TICKETS
URL:https://www.scf.edu/events/british-invasion/
LOCATION:SCF Neel Performing Arts Center\, Bldg. 11 East\, 5840 26th St. West\, Bldg. 11 East\, Bradenton\, FL\, 34207\, United States
CATEGORIES:Music,Performing Arts
ATTACH;FMTTYPE=image/jpeg:https://www.scf.edu/wp-content/uploads/2025/11/British-Invasion.jpg
END:VEVENT
END:VCALENDAR