BEGIN:VCALENDAR
VERSION:2.0
PRODID:-//State College of Florida, Manatee - Sarasota - ECPv6.15.18//NONSGML v1.0//EN
CALSCALE:GREGORIAN
METHOD:PUBLISH
X-ORIGINAL-URL:https://www.scf.edu
X-WR-CALDESC:Events for State College of Florida, Manatee - Sarasota
REFRESH-INTERVAL;VALUE=DURATION:PT1H
X-Robots-Tag:noindex
X-PUBLISHED-TTL:PT1H
BEGIN:VTIMEZONE
TZID:America/New_York
BEGIN:DAYLIGHT
TZOFFSETFROM:-0500
TZOFFSETTO:-0400
TZNAME:EDT
DTSTART:20250309T070000
END:DAYLIGHT
BEGIN:STANDARD
TZOFFSETFROM:-0400
TZOFFSETTO:-0500
TZNAME:EST
DTSTART:20251102T060000
END:STANDARD
BEGIN:DAYLIGHT
TZOFFSETFROM:-0500
TZOFFSETTO:-0400
TZNAME:EDT
DTSTART:20260308T070000
END:DAYLIGHT
BEGIN:STANDARD
TZOFFSETFROM:-0400
TZOFFSETTO:-0500
TZNAME:EST
DTSTART:20261101T060000
END:STANDARD
BEGIN:DAYLIGHT
TZOFFSETFROM:-0500
TZOFFSETTO:-0400
TZNAME:EDT
DTSTART:20270314T070000
END:DAYLIGHT
BEGIN:STANDARD
TZOFFSETFROM:-0400
TZOFFSETTO:-0500
TZNAME:EST
DTSTART:20271107T060000
END:STANDARD
END:VTIMEZONE
BEGIN:VEVENT
DTSTART;TZID=America/New_York:20260416T190000
DTEND;TZID=America/New_York:20260416T210000
DTSTAMP:20260422T220641
CREATED:20251107T152425Z
LAST-MODIFIED:20260414T153620Z
UID:10000683-1776366000-1776373200@www.scf.edu
SUMMARY:SCF Music Presents A Musical Journey
DESCRIPTION:Presented by SCF Bradenton Symphony Orchestra \nThursday\, April 16th @ 7:00 p.m.\nSCF Bradenton Campus\, 5840 26th St. West\, Neel Performing Arts Center\, Bldg. 11 East \n\nEmbark on A Musical Journey with the SCF Bradenton Symphony Orchestra. This unforgettable evening invites you to experience a rich and diverse program that travels across time\, style\, and emotion. Join us as our talented student musicians bring each piece to life\, guiding you through a powerful exploration of orchestral sound. \nBUY TICKETS
URL:https://www.scf.edu/events/musical-journey/
LOCATION:SCF Neel Performing Arts Center\, Bldg. 11 East\, 5840 26th St. West\, Bldg. 11 East\, Bradenton\, FL\, 34207\, United States
CATEGORIES:Music,Performing Arts
ATTACH;FMTTYPE=image/jpeg:https://www.scf.edu/wp-content/uploads/2025/11/A-Musical-Journey.jpg
END:VEVENT
END:VCALENDAR