BEGIN:VCALENDAR
VERSION:2.0
PRODID:-//State College of Florida, Manatee - Sarasota - ECPv6.15.18//NONSGML v1.0//EN
CALSCALE:GREGORIAN
METHOD:PUBLISH
X-ORIGINAL-URL:https://www.scf.edu
X-WR-CALDESC:Events for State College of Florida, Manatee - Sarasota
REFRESH-INTERVAL;VALUE=DURATION:PT1H
X-Robots-Tag:noindex
X-PUBLISHED-TTL:PT1H
BEGIN:VTIMEZONE
TZID:America/New_York
BEGIN:DAYLIGHT
TZOFFSETFROM:-0500
TZOFFSETTO:-0400
TZNAME:EDT
DTSTART:20230312T070000
END:DAYLIGHT
BEGIN:STANDARD
TZOFFSETFROM:-0400
TZOFFSETTO:-0500
TZNAME:EST
DTSTART:20231105T060000
END:STANDARD
BEGIN:DAYLIGHT
TZOFFSETFROM:-0500
TZOFFSETTO:-0400
TZNAME:EDT
DTSTART:20240310T070000
END:DAYLIGHT
BEGIN:STANDARD
TZOFFSETFROM:-0400
TZOFFSETTO:-0500
TZNAME:EST
DTSTART:20241103T060000
END:STANDARD
BEGIN:DAYLIGHT
TZOFFSETFROM:-0500
TZOFFSETTO:-0400
TZNAME:EDT
DTSTART:20250309T070000
END:DAYLIGHT
BEGIN:STANDARD
TZOFFSETFROM:-0400
TZOFFSETTO:-0500
TZNAME:EST
DTSTART:20251102T060000
END:STANDARD
BEGIN:DAYLIGHT
TZOFFSETFROM:-0500
TZOFFSETTO:-0400
TZNAME:EDT
DTSTART:20260308T070000
END:DAYLIGHT
BEGIN:STANDARD
TZOFFSETFROM:-0400
TZOFFSETTO:-0500
TZNAME:EST
DTSTART:20261101T060000
END:STANDARD
END:VTIMEZONE
BEGIN:VEVENT
DTSTART;TZID=America/New_York:20250514T080000
DTEND;TZID=America/New_York:20250514T170000
DTSTAMP:20260422T090104
CREATED:20250507T184233Z
LAST-MODIFIED:20250507T184251Z
UID:10000608-1747209600-1747242000@www.scf.edu
SUMMARY:Pre-College Emerging Tech Workshop
DESCRIPTION:Presented by State College of Florida\, Manatee-Sarasota’s Advanced Technology Center \nWednesday\, May 14th\, 2025 @ 6:15 p.m. – 8:00 p.m.\nSCF Bradenton Campus\, 5840 26th St. W.\, Building 8 \n\nState College of Florida\, Manatee-Sarasota’s Advanced Technology Center is offering a Pre-College Emerging Tech Workshop from 6:15 to 8 p.m. Wednesday\, May 14\, at SCF Bradenton\, 5840 26th St. W.\, Building 8. The event\, designed for high school students\, is an interactive workshop that will dive into the fascinating world of artificial intelligence (AI). Participants will network with industry experts\, get a chance to ask questions during a Q&A panel and have hands-on time with AI tools. \nWhether your student is curious about a future in AI or wants to learn more about this transformative field\, this workshop is the perfect opportunity. Students will gain insights into college preparation and explore exciting majors that can lead to thriving careers in this ever-growing field. Join us for a night of innovation\, learning and fun. \nThis event is free to the public with light snacks provided.
URL:https://www.scf.edu/events/pre-college-emerging-tech-workshop/
LOCATION:Events at the SCF Bradenton Campus\, 5840 26th St. West\, Bradenton\, FL\, 34207\, United States
CATEGORIES:Open House
ATTACH;FMTTYPE=image/jpeg:https://www.scf.edu/wp-content/uploads/2025/05/scf-advanced-technology-center-precollege-workshop.jpg
ORGANIZER;CN="State College of Florida%2C Manatee - Sarasota":MAILTO:Info@SCF.edu
END:VEVENT
BEGIN:VEVENT
DTSTART;TZID=America/New_York:20250505T133000
DTEND;TZID=America/New_York:20250505T150000
DTSTAMP:20260422T090104
CREATED:20250424T192810Z
LAST-MODIFIED:20250424T194434Z
UID:10000607-1746451800-1746457200@www.scf.edu
SUMMARY:Program Information + Meet & Greet (In-Person)
DESCRIPTION:Presented by the State College of Florida\, Manatee-Sarasota \nMonday\, May 5 @ 1:30 p.m. – 3:00 p.m.\nBuilding 29\, Room 107 – SCF Bradenton Campus \n\nThis session is a great opportunity to learn about the Nursing (Articulated to B.S. Degree) program and get your questions answered. Join us to explore how this pathway prepares you to become a licensed registered nurse.
URL:https://www.scf.edu/events/program-information-meet-greet-in-person/
LOCATION:Events at the SCF Bradenton Campus\, 5840 26th St. West\, Bradenton\, FL\, 34207\, United States
CATEGORIES:A.S. Nursing Information Sessions
ATTACH;FMTTYPE=image/jpeg:https://www.scf.edu/wp-content/uploads/2024/12/DSC06612-2.jpg
END:VEVENT
BEGIN:VEVENT
DTSTART;TZID=America/New_York:20250502T090000
DTEND;TZID=America/New_York:20250502T110000
DTSTAMP:20260422T090104
CREATED:20250225T180529Z
LAST-MODIFIED:20250424T154031Z
UID:10000586-1746176400-1746183600@www.scf.edu
SUMMARY:Spring 2025 Grad Walk Bradenton
DESCRIPTION:Presented by the State College of Florida\, Manatee-Sarasota \nFriday\, May 2nd @ 9:00 a.m. – 11:00 a.m.\nSCF Bradenton Campus\, 5840 26th St. West \nTime: Drop-in anytime from 9:00 – 11:00 AM \nEstimated Time: 10 minutes \n\nThe Grad Walk is a more flexible and informal way to celebrate your graduation. Graduates can arrive at any time during the event window and will have the opportunity to walk through the venue at their own pace. Each participant will have their name read aloud\, walk across the stage to receive their diploma cover\, and have time for photos before exiting. Unlike the Traditional Ceremony\, there are no assigned seats\, no speeches\, and no ticketed guest requirements. This option is ideal for those looking for a quicker\, more personal way to celebrate their achievement. \nGuest Tickets: Not required \nRSVP Deadline: May 1\, 2025
URL:https://www.scf.edu/events/spring-2025-grad-walk-bradenton/
LOCATION:Events at the SCF Bradenton Campus\, 5840 26th St. West\, Bradenton\, FL\, 34207\, United States
CATEGORIES:Grad Walk
ATTACH;FMTTYPE=image/jpeg:https://www.scf.edu/wp-content/uploads/2025/02/scf-spring-graduation-2025-grad-walk-2.jpg
END:VEVENT
BEGIN:VEVENT
DTSTART;TZID=America/New_York:20250419T090000
DTEND;TZID=America/New_York:20250419T110000
DTSTAMP:20260422T090104
CREATED:20250324T141011Z
LAST-MODIFIED:20250324T141011Z
UID:10000591-1745053200-1745060400@www.scf.edu
SUMMARY:2025 Easter Egg Poké-Hunt
DESCRIPTION:Presented by the SCF Foundation \nSaturday\, April 19th\, 2025 @ 9:00 a.m. – 11:00 a.m.\nState College of Florida\, – Bradenton Campus\, 5840 26th St. West\nThe event entrance is between SCF’s Library and Learning Center\, Building 3\, and Neel Performing Arts Center\, Building 11. \n\nThe whole family will enjoy a free and open-to-the-public 2025 Easter Poke-Hunt that includes coffee\, egg hunting\, music\, and bouncing on Saturday\, April 19\, from 9 to 11 a.m. at SCF Bradenton Campus. The egg hunt begins at 10 a.m. and bring your baskets! \nThe mascot of State College of Florida\, Manatee-Sarasota’s (SCF)\, Maverick\, will also pose for photos in a themed booth. The event will include fun games\, prizes\, arts and crafts\, and other festivities. \nNo RSVP is required. For more information\, contact Madeline Mangas\, community outreach coordinator\, at MangasM@SCF.edu or 941-752-5336.
URL:https://www.scf.edu/events/2025-easter-egg-poke-hunt/
LOCATION:Events at the SCF Bradenton Campus\, 5840 26th St. West\, Bradenton\, FL\, 34207\, United States
CATEGORIES:SCF Foundation
ATTACH;FMTTYPE=image/jpeg:https://www.scf.edu/wp-content/uploads/2025/03/scf-easter-egg-poke-hunt-2025-e1742831140165.jpg
ORGANIZER;CN="SCF Foundation":MAILTO:SCFFoundation@SCF.edu
END:VEVENT
BEGIN:VEVENT
DTSTART;TZID=America/New_York:20250417T140000
DTEND;TZID=America/New_York:20250417T180000
DTSTAMP:20260422T090104
CREATED:20250103T192755Z
LAST-MODIFIED:20250311T131304Z
UID:10000550-1744898400-1744912800@www.scf.edu
SUMMARY:Join Us for the OTA Open House at SCF!
DESCRIPTION:Presented by the State College of Florida\, Manatee-Sarasota \nThursday\, April 17th\, 2:00 p.m. – 6:00 p.m.\nSCF Bradenton Campus\, 5840 26th St. West Building 28 – OTA Classroom \n\nDiscover how SCF can help shape your future! \nThis exciting event is designed for future students\, families\, and community members to explore everything SCF’s Occupational Therapy Assistant program offers. Whether you’re passionate about a healthcare career or simply curious about this dynamic field\, this event is for you. \n\nMeet the OTA Director and Faculty\nChat with current students\nTour our state-of-the-art OTA classroom\n\n✨ Passionate about making a difference? \nOur Occupational Therapy Assistant program prepares you to transform lives through care and compassion. Learn how SCF’s cutting-edge curriculum\, hands-on training\, and expert mentorship can set you on the path to a rewarding career in occupational therapy. \n\nPersonalized mentorship ✅\nAffordable tuition ✅\nFlexible schedules ✅\n\nSCF’s OTA program is the perfect choice for starting your journey in healthcare. \nQuestions? We’re here to help! \nOTA.Admissions@SCF.edu or 941-752-5346
URL:https://www.scf.edu/events/join-us-for-the-ota-open-house-at-scf/
LOCATION:Events at the SCF Bradenton Campus\, 5840 26th St. West\, Bradenton\, FL\, 34207\, United States
CATEGORIES:Occupational Therapy Assistant,Open House
ATTACH;FMTTYPE=image/jpeg:https://www.scf.edu/wp-content/uploads/2025/01/scf-occupational-therapy-assistant-program.jpg
ORGANIZER;CN="State College of Florida%2C Manatee - Sarasota":MAILTO:Info@SCF.edu
END:VEVENT
BEGIN:VEVENT
DTSTART;TZID=America/New_York:20250417T100000
DTEND;TZID=America/New_York:20250417T130000
DTSTAMP:20260422T090104
CREATED:20250116T192839Z
LAST-MODIFIED:20250311T130913Z
UID:10000554-1744884000-1744894800@www.scf.edu
SUMMARY:Join Us for the PTA Open House at SCF!
DESCRIPTION:Presented by the State College of Florida\, Manatee-Sarasota \nThursday\, April 17th\, 10:00 a.m. – 1:00 p.m.\nSCF Bradenton Campus\, 5840 26th St. West Building 28 – Room 120 \n\nDiscover how SCF can help shape your future! \nThis exciting event is designed for future students\, families\, and community members to explore everything SCF’s Physical Therapist Assistant program offers. Whether you’re passionate about a healthcare career or simply curious about this dynamic field\, this event is for you. \n\nMeet the PTA Director and Faculty\nChat with current students\nTour our state-of-the-art OTA classroom\n\n✨ Passionate about making a difference? \nOur Physical Therapist Assistant program prepares you to transform lives through care and compassion. Learn how SCF’s cutting-edge curriculum\, hands-on training\, and expert mentorship can set you on the path to a rewarding career in occupational therapy. \n\nPersonalized mentorship ✅\nAffordable tuition ✅\nFlexible schedules ✅\n\nSCF’s PTA program is the perfect choice for starting your journey in healthcare. \nQuestions? We’re here to help! \nPTA.Admissions@SCF.edu or 941-752-5346
URL:https://www.scf.edu/events/join-us-for-the-pta-open-house-at-scf/
LOCATION:Events at the SCF Bradenton Campus\, 5840 26th St. West\, Bradenton\, FL\, 34207\, United States
CATEGORIES:Open House,Physical Therapist Assistant
ATTACH;FMTTYPE=image/jpeg:https://www.scf.edu/wp-content/uploads/2025/01/scf-pta-open-house-1.jpg
ORGANIZER;CN="State College of Florida%2C Manatee - Sarasota":MAILTO:Info@SCF.edu
END:VEVENT
BEGIN:VEVENT
DTSTART;TZID=America/New_York:20250411T150000
DTEND;TZID=America/New_York:20250411T190000
DTSTAMP:20260422T090104
CREATED:20250408T154513Z
LAST-MODIFIED:20250423T201739Z
UID:10000604-1744383600-1744398000@www.scf.edu
SUMMARY:Festival of the Arts: A Celebration of Student Creativity at SCF
DESCRIPTION:Presented by SCF Campus Clubs \nFriday\, April 11th\, 2025 @ 3:00 p.m. – 7:00 p.m.\nSCF Campus\, 5840 26th St. W\, Bradenton\, FL 34207 (In front of Building 11A\, Parking in lot I or H) \n\nJoin us for the Festival of the Arts\, a dynamic showcase of student creativity and talent! The event will feature a diverse range of artistic exhibitions\, performances\, and presentations from students at SCF\, Ringling\, and New College. Experience art\, music\, film\, theatre\, and creative writing\, all produced by our local students. \nArt Exhibitions \nLive Music Performances \nShort Films \nTheatre Performances \nCreative Writing Readings \n🎨 Explore Creativity: Discover thought-provoking artwork and performances that celebrate the artistic spirit.🎬 Engage with the Arts: Enjoy a variety of performances\, from music to theatre\, showcasing our community’s brightest talents.📚 Experience Diversity: See how students from SCF\, Ringling\, and New College bring their unique perspectives to the creative world. \nFor more information\, please contact Zackary Chapman at chapmaz@scf.edu or Dr. Jesse Clark at clarkj@scf.edu. \nLet’s celebrate creativity and artistic expression together at SCF’s Festival of the Arts!
URL:https://www.scf.edu/events/festival-of-the-arts-a-celebration-of-student-creativity-at-scf/
LOCATION:Events at the SCF Bradenton Campus\, 5840 26th St. West\, Bradenton\, FL\, 34207\, United States
CATEGORIES:The Gallery at SCF
ATTACH;FMTTYPE=image/jpeg:https://www.scf.edu/wp-content/uploads/2025/04/scf-festival-of-the-arts.jpg
END:VEVENT
BEGIN:VEVENT
DTSTART;TZID=America/New_York:20250215T100000
DTEND;TZID=America/New_York:20250215T140000
DTSTAMP:20260422T090104
CREATED:20250123T194639Z
LAST-MODIFIED:20250424T171503Z
UID:10000564-1739613600-1739628000@www.scf.edu
SUMMARY:Spring into Safety: A Community Event at SCF
DESCRIPTION:Presented by the State College of Florida\, Manatee-Sarasota \nSaturday\, February 15th\, 10:00 a.m. – 2:00 p.m.\nSCF Bradenton Campus\, 5840 26th St. West \n\nJoin the State College of Florida\, the Manatee County Sheriff’s Office\, and the Florida Department of Transportation for an exciting “Spring into Safety” community event! \nThis engaging event features: \n\nOver 50 vehicles and equipment on display\, including helicopters\, SWAT vehicles\, Mounted Patrol Units\, Fire Apparatus\, and more!\nFood trucks and interactive activities for all ages.\nSpecial appearances by Marty the Marauder at 10:00 a.m. and Vince & Larry at 11:00 a.m.\n\n✨ Don’t miss this family-friendly event that highlights health\, traffic safety\, and community connection! \nQuestions? Contact Edie Rosenthal at Edie.Rosenthal@dot.state.fl.us
URL:https://www.scf.edu/events/spring-into-safety-event/
LOCATION:Events at the SCF Bradenton Campus\, 5840 26th St. West\, Bradenton\, FL\, 34207\, United States
CATEGORIES:Student Life
ATTACH;FMTTYPE=image/png:https://www.scf.edu/wp-content/uploads/2025/01/SCF-FDOT-Operation-Spring-Feb-15-Flyer.pdf-Presentation.png
ORGANIZER;CN="State College of Florida%2C Manatee - Sarasota":MAILTO:Info@SCF.edu
END:VEVENT
BEGIN:VEVENT
DTSTART;TZID=America/New_York:20241113T100000
DTEND;TZID=America/New_York:20241113T130000
DTSTAMP:20260422T090104
CREATED:20241001T165818Z
LAST-MODIFIED:20250423T192456Z
UID:10000527-1731492000-1731502800@www.scf.edu
SUMMARY:SCF Fall Fest at SCF Venice
DESCRIPTION:Presented by the Office of Student Life \nWednesday\, November  13\, 2024 @ 10:00am to 1:00pm\nSCF Venice\, 8000 S. Tamiami Trail – Performance Pavilion \n\nJoin us to celebrate the Fall semester\, hosted by the Student Government Association. Enjoy an afternoon of games and treats as you meet our campus clubs\, network with local organizations\, and learn about student resources!
URL:https://www.scf.edu/events/scf-fall-fest-at-scf-venice/
LOCATION:Events at the SCF Bradenton Campus\, 5840 26th St. West\, Bradenton\, FL\, 34207\, United States
CATEGORIES:Student Life
ATTACH;FMTTYPE=image/jpeg:https://www.scf.edu/wp-content/uploads/2024/10/scf-fall-fest-2024.jpg
ORGANIZER;CN="State College of Florida%2C Manatee - Sarasota":MAILTO:Info@SCF.edu
END:VEVENT
BEGIN:VEVENT
DTSTART;TZID=America/New_York:20241024T180000
DTEND;TZID=America/New_York:20241024T200000
DTSTAMP:20260422T090104
CREATED:20240905T171454Z
LAST-MODIFIED:20260407T200036Z
UID:10000507-1729792800-1729800000@www.scf.edu
SUMMARY:Annual Trunk or Treat at SCF Bradenton
DESCRIPTION:Presented by the State College of Florida\, Manatee-Sarasota\, SCF Foundation\, Office of Student Life\, Student Government\, Campus Clubs & Athletics \nThursday\, October 24\, 2024 @ 6:00 p.m. – 8:00 p.m.\nSCF Bradenton 5840 26th St. W. Parking Lot D \n\nCelebrate Halloween with SCF! Kids of all ages are welcome to “Trick or Treat” and enjoy a ghoulish costume contest\, DJ\, decorated vehicles\, plenty of treats\, a food truck and free activities! \nVisit SCF.edu/TrunkorTreat to register. \nREGISTER \n*Each child who is registered will receive an SCF branded trick or treat bag. \n 
URL:https://www.scf.edu/events/annual-trunk-or-treat-at-scf-bradenton/
LOCATION:Events at the SCF Bradenton Campus\, 5840 26th St. West\, Bradenton\, FL\, 34207\, United States
CATEGORIES:Student Life
ATTACH;FMTTYPE=image/jpeg:https://www.scf.edu/wp-content/uploads/2024/09/scf-trunk-or-treat-hero-2.jpg
ORGANIZER;CN="State College of Florida%2C Manatee - Sarasota":MAILTO:Info@SCF.edu
END:VEVENT
BEGIN:VEVENT
DTSTART;TZID=America/New_York:20240911T083000
DTEND;TZID=America/New_York:20240911T093000
DTSTAMP:20260422T090104
CREATED:20240905T150212Z
LAST-MODIFIED:20250416T182543Z
UID:10000502-1726043400-1726047000@www.scf.edu
SUMMARY:SCF Bradenton 9/11 Memorial Ceremony
DESCRIPTION:Presented by the SCF Student Veterans of America and Veteran Services \nWednesday\, September 11\, 2024 @ 8:30-9:30 a.m.\nSouth Entrance Flagpole on 60th Ave. W.\, near the Library and Learning Center\, Bldg. 3 \n\nJoin SCF Student Veterans of America and Veteran Services on Wednesday\, September 11\, in remembrance of the lives lost during the 2001 terrorist attacks. \nThe event will be broadcast live at Facebook.com/StateCollegeofFlorida \nIn the event of bad weather\, the ceremony at SCF Bradenton will move inside the Library and Learning Center\, Bldg. 3 Mezzanine. 
URL:https://www.scf.edu/events/scf-bradenton-9-11-memorial-ceremony/
LOCATION:Events at the SCF Bradenton Campus\, 5840 26th St. West\, Bradenton\, FL\, 34207\, United States
CATEGORIES:Student Life
ATTACH;FMTTYPE=image/jpeg:https://www.scf.edu/wp-content/uploads/2024/09/scf-ssem-veteran-services-9-11-ceremony.jpg
ORGANIZER;CN="State College of Florida%2C Manatee - Sarasota":MAILTO:Info@SCF.edu
END:VEVENT
BEGIN:VEVENT
DTSTART;TZID=America/New_York:20240828T100000
DTEND;TZID=America/New_York:20240829T130000
DTSTAMP:20260422T090104
CREATED:20240820T191220Z
LAST-MODIFIED:20250415T202203Z
UID:10000493-1724839200-1724936400@www.scf.edu
SUMMARY:SCF Bradenton Annual Club Rush
DESCRIPTION:Are You Ready to Get Involved at SCF?\nWhether you’re a brand-new Manatee or have a semester or two under your belt\, you’re invited to jam out to music and check out our different clubs\, organizations\, honor societies and campus resources. P.S. Yes\, treats will be available! \nContact StudentLife@SCF.edu with any questions!
URL:https://www.scf.edu/events/scf-bradenton-annual-club-rush/
LOCATION:Events at the SCF Bradenton Campus\, 5840 26th St. West\, Bradenton\, FL\, 34207\, United States
CATEGORIES:Student Life
ATTACH;FMTTYPE=image/jpeg:https://www.scf.edu/wp-content/uploads/2024/08/scf-student-life-annual-club-rush-fall-2024.jpg
ORGANIZER;CN="State College of Florida%2C Manatee - Sarasota":MAILTO:Info@SCF.edu
END:VEVENT
BEGIN:VEVENT
DTSTART;TZID=America/New_York:20240330T090000
DTEND;TZID=America/New_York:20240330T110000
DTSTAMP:20260422T090104
CREATED:20240325T202208Z
LAST-MODIFIED:20241108T190211Z
UID:10000474-1711789200-1711796400@www.scf.edu
SUMMARY:2024 Easter Egg Poké-Hunt
DESCRIPTION:Get festive with Maverick the Manatee and join the fun @ SCF Bradenton’s Easter Egg Poké-Hunt on Sat.\, March 30\, 9-11 a.m.
URL:https://www.scf.edu/events/2024-easter-egg-poke-hunt/
LOCATION:Events at the SCF Bradenton Campus\, 5840 26th St. West\, Bradenton\, FL\, 34207\, United States
CATEGORIES:SCF Foundation
ATTACH;FMTTYPE=image/jpeg:https://www.scf.edu/wp-content/uploads/2024/03/scf-easter-egg-poke-hunt.jpg
END:VEVENT
END:VCALENDAR