BEGIN:VCALENDAR
VERSION:2.0
PRODID:-//State College of Florida, Manatee - Sarasota - ECPv6.15.18//NONSGML v1.0//EN
CALSCALE:GREGORIAN
METHOD:PUBLISH
X-ORIGINAL-URL:https://www.scf.edu
X-WR-CALDESC:Events for State College of Florida, Manatee - Sarasota
REFRESH-INTERVAL;VALUE=DURATION:PT1H
X-Robots-Tag:noindex
X-PUBLISHED-TTL:PT1H
BEGIN:VTIMEZONE
TZID:America/New_York
BEGIN:DAYLIGHT
TZOFFSETFROM:-0500
TZOFFSETTO:-0400
TZNAME:EDT
DTSTART:20250309T070000
END:DAYLIGHT
BEGIN:STANDARD
TZOFFSETFROM:-0400
TZOFFSETTO:-0500
TZNAME:EST
DTSTART:20251102T060000
END:STANDARD
BEGIN:DAYLIGHT
TZOFFSETFROM:-0500
TZOFFSETTO:-0400
TZNAME:EDT
DTSTART:20260308T070000
END:DAYLIGHT
BEGIN:STANDARD
TZOFFSETFROM:-0400
TZOFFSETTO:-0500
TZNAME:EST
DTSTART:20261101T060000
END:STANDARD
BEGIN:DAYLIGHT
TZOFFSETFROM:-0500
TZOFFSETTO:-0400
TZNAME:EDT
DTSTART:20270314T070000
END:DAYLIGHT
BEGIN:STANDARD
TZOFFSETFROM:-0400
TZOFFSETTO:-0500
TZNAME:EST
DTSTART:20271107T060000
END:STANDARD
END:VTIMEZONE
BEGIN:VEVENT
DTSTART;TZID=America/New_York:20260430T190000
DTEND;TZID=America/New_York:20260430T210000
DTSTAMP:20260421T060539
CREATED:20251112T171224Z
LAST-MODIFIED:20251112T171224Z
UID:10000684-1777575600-1777582800@www.scf.edu
SUMMARY:SCF Music Presents Spring Celebration of Music
DESCRIPTION:Presented by SCF Music \nThursday\, April 30th @ 7:00 p.m.\nSCF Bradenton Campus\, 5840 26th St. West\, Neel Performing Arts Center\, Bldg. 11 East \n\nJoin the Symphonic Band\, Guitar Ensemble\, Concert Choir\, Chamber Choir\, Jazz Combo\, and Jazz Orchestra for an exhilarating evening showcasing the incredible talent and hard work of SCF’s music students. Experience a rich variety of styles and sounds as these dedicated ensembles come together to honor a remarkable year of inspired music-making — all in front of an enthusiastic and supportive audience. Don’t miss this unforgettable celebration of community\, artistry\, and passion! \nBUY TICKETS
URL:https://www.scf.edu/events/spring-celebration-of-music/
LOCATION:SCF Neel Performing Arts Center\, Bldg. 11 East\, 5840 26th St. West\, Bldg. 11 East\, Bradenton\, FL\, 34207\, United States
CATEGORIES:Music,Performing Arts
ATTACH;FMTTYPE=image/jpeg:https://www.scf.edu/wp-content/uploads/2025/11/Spring-Celebration.jpg
END:VEVENT
BEGIN:VEVENT
DTSTART;TZID=America/New_York:20260506T183000
DTEND;TZID=America/New_York:20260506T193000
DTSTAMP:20260421T060539
CREATED:20260415T181719Z
LAST-MODIFIED:20260417T130733Z
UID:10000752-1778092200-1778095800@www.scf.edu
SUMMARY:Dental Hygiene Ceremony - Spring 2026
DESCRIPTION:Dental Hygiene Ceremony – Spring 2026\nWednesday\, May 6th\, 2026 @ 6:30pm\nSCF Bradenton Campus\, 5840 26th St. West\nBldg. 11 East – SCF Neel Performing Arts Center\n \nFor questions or to confirm attendance\, contact: Kim Bastin – BastinK@SCF.edu
URL:https://www.scf.edu/events/dental-hygiene-ceremony-spring-2026/
LOCATION:SCF Neel Performing Arts Center\, Bldg. 11 East\, 5840 26th St. West\, Bldg. 11 East\, Bradenton\, FL\, 34207\, United States
CATEGORIES:Dental Hygiene
ATTACH;FMTTYPE=image/jpeg:https://www.scf.edu/wp-content/uploads/2026/04/SCF-Dental-Hygiene-logo-color-web.jpg
ORGANIZER;CN="State College of Florida%2C Manatee - Sarasota":MAILTO:Info@SCF.edu
END:VEVENT
BEGIN:VEVENT
DTSTART;TZID=America/New_York:20260507T130000
DTEND;TZID=America/New_York:20260507T140000
DTSTAMP:20260421T060539
CREATED:20260415T180349Z
LAST-MODIFIED:20260417T130046Z
UID:10000748-1778158800-1778162400@www.scf.edu
SUMMARY:Nursing Pinning Ceremony - Spring 2026
DESCRIPTION:Presented by the Faculty and Staff of the State College of Florida\, Manatee – Sarasota Nursing Program \nThursday\, May 7th\, 2026 @ 1:00pm\nSCF Bradenton Campus\, 5840 26th St. West – SCF Neel Performing Arts Center\, Bldg. 11 East \n\nSpring 2026 SCF Nursing Pinning Ceremony Honoring our ASN and BSN Graduates. Please join us as we celebrate our ASN and BSN graduates! \nThe pinning ceremony is open to SCF employees\, graduating students\, and their families. \nFor questions or to confirm attendance\, contact: Tammy Sawmelle – SawmelT@SCF.edu
URL:https://www.scf.edu/events/nursing-pinning-ceremony-spring-2026/
LOCATION:SCF Neel Performing Arts Center\, Bldg. 11 East\, 5840 26th St. West\, Bldg. 11 East\, Bradenton\, FL\, 34207\, United States
CATEGORIES:Nursing Pinning Ceremony
ATTACH;FMTTYPE=image/jpeg:https://www.scf.edu/wp-content/uploads/2024/05/SCF-Nursing-Graduates-2-scaled.jpg
ORGANIZER;CN="State College of Florida%2C Manatee - Sarasota":MAILTO:Info@SCF.edu
END:VEVENT
BEGIN:VEVENT
DTSTART;TZID=America/New_York:20260508T100000
DTEND;TZID=America/New_York:20260508T110000
DTSTAMP:20260421T060539
CREATED:20260415T180036Z
LAST-MODIFIED:20260417T130843Z
UID:10000750-1778234400-1778238000@www.scf.edu
SUMMARY:Bradenton Collegiate School Graduation - Spring 2026
DESCRIPTION:Bradenton Collegiate School Graduation – Spring 2026\nFriday\, May 8th\, 2026 @ 10:00 a.m.\nSCF Bradenton – 5840 26th St. West \nBuilding 11 East – Neel Performing Arts Center \nFor questions or to confirm attendance\, contact: Kelly Monod – MonodK@SCF.edu
URL:https://www.scf.edu/events/bradenton-collegiate-school-graduation-spring-2026/
LOCATION:SCF Neel Performing Arts Center\, Bldg. 11 East\, 5840 26th St. West\, Bldg. 11 East\, Bradenton\, FL\, 34207\, United States
CATEGORIES:SCF Collegiate Schools
ATTACH;FMTTYPE=image/jpeg:https://www.scf.edu/wp-content/uploads/2026/04/SCFCS-Bradenton-Graduation-Web-Image-FINAL_03_19_26-1.jpg
ORGANIZER;CN="State College of Florida%2C Manatee - Sarasota":MAILTO:Info@SCF.edu
END:VEVENT
BEGIN:VEVENT
DTSTART;TZID=America/New_York:20260508T163000
DTEND;TZID=America/New_York:20260508T173000
DTSTAMP:20260421T060539
CREATED:20260415T184227Z
LAST-MODIFIED:20260417T133125Z
UID:10000756-1778257800-1778261400@www.scf.edu
SUMMARY:SCF Bradenton Commencement Ceremony - Spring 2026
DESCRIPTION:Congratulations Graduates!\nSCF Bradenton Commencement Ceremony – Spring 2026 – 4:30 p.m.\nFriday\, May 8th @ 4:30 p.m.\nSCF Bradenton Campus – 5840 26th St. West –Bldg. 11 East – SCF Neel Performing Arts Center. \nFor questions or to confirm attendance\, contact: Nicole Van Eyk – VaneykN@SCF.edu \n  \nLocation: SCF Bradenton Campus\nEstimated Time: 1 hour\nDate: Friday\, May 8\, 2026\nTime: 4:30 PM or 7:00 PM (Time will be confirmed for each graduate)\nGuest Tickets: A limited number of tickets will be available for guests (Estimate 4-7) \nThe Traditional Ceremony is a formal\, seated event that includes speeches\, awards\, and the full graduation experience. Graduates will have their names read aloud as they walk across the stage to receive their diploma cover. Afterward\, they will return to their seats for the remainder of the ceremony. This event will also feature keynote speakers and a special award presentation. Seating is assigned\, and all participants are expected to stay for the entire ceremony.
URL:https://www.scf.edu/events/scf-bradenton-commencement-ceremony-spring-2026-afternoon/
LOCATION:SCF Neel Performing Arts Center\, Bldg. 11 East\, 5840 26th St. West\, Bldg. 11 East\, Bradenton\, FL\, 34207\, United States
CATEGORIES:Graduation
ATTACH;FMTTYPE=image/jpeg:https://www.scf.edu/wp-content/uploads/2026/04/SM-Badge-1080x1080_-final_03_24_26.jpg
ORGANIZER;CN="State College of Florida%2C Manatee - Sarasota":MAILTO:Info@SCF.edu
END:VEVENT
BEGIN:VEVENT
DTSTART;TZID=America/New_York:20260508T190000
DTEND;TZID=America/New_York:20260508T200000
DTSTAMP:20260421T060539
CREATED:20260415T184616Z
LAST-MODIFIED:20260417T133313Z
UID:10000757-1778266800-1778270400@www.scf.edu
SUMMARY:SCF Bradenton Commencement Ceremony - Spring 2026
DESCRIPTION:Congratulations Graduates!\nSCF Bradenton Commencement Ceremony – Spring 2026 – 7:00 p.m.\nFriday\, May 8th @ 7:00 p.m.\nSCF Bradenton Campus – 5840 26th St. West – Bldg. 11 East – SCF Neel Performing Arts Center. \nFor questions or to confirm attendance\, contact: Nicole Van Eyk – VaneykN@SCF.edu \n  \nLocation: SCF Bradenton Campus\nEstimated Time: 1 hour\nDate: Friday\, May 8\, 2026\nTime: 4:30 PM or 7:00 PM (Time will be confirmed for each graduate)\nGuest Tickets: A limited number of tickets will be available for guests (Estimate 4-7) \nThe Traditional Ceremony is a formal\, seated event that includes speeches\, awards\, and the full graduation experience. Graduates will have their names read aloud as they walk across the stage to receive their diploma cover. Afterward\, they will return to their seats for the remainder of the ceremony. This event will also feature keynote speakers and a special award presentation. Seating is assigned\, and all participants are expected to stay for the entire ceremony.
URL:https://www.scf.edu/events/scf-bradenton-commencement-ceremony-spring-2026-evening/
LOCATION:SCF Neel Performing Arts Center\, Bldg. 11 East\, 5840 26th St. West\, Bldg. 11 East\, Bradenton\, FL\, 34207\, United States
CATEGORIES:Graduation
ATTACH;FMTTYPE=image/jpeg:https://www.scf.edu/wp-content/uploads/2026/04/SM-Badge-1080x1080_-final_03_24_26.jpg
ORGANIZER;CN="State College of Florida%2C Manatee - Sarasota":MAILTO:Info@SCF.edu
END:VEVENT
BEGIN:VEVENT
DTSTART;TZID=America/New_York:20260512T183000
DTEND;TZID=America/New_York:20260512T203000
DTSTAMP:20260421T060539
CREATED:20260415T185618Z
LAST-MODIFIED:20260415T185618Z
UID:10000758-1778610600-1778617800@www.scf.edu
SUMMARY:28th Annual CROP Awards Ceremony - Spring 2026
DESCRIPTION:Presented by the State College of Florida\, Manatee-Sarasota \nTuesday\, May 12\, 2026 @ 6:30 p.m. – 8:30 p.m.\nState College of Florida\, Bradenton Campus\, 5840 26th St. West\nSCF Neel Performing Arts Center \n\nThe College Reach-Out Program (CROP) proudly honors our students’ achievements during this special annual celebration. Join us for an evening of recognition and inspiration! \nVideo Presentation: 6:30 – 7:00 p.m.\nAwards Program: 7:00 – 8:15 p.m.Refreshments to follow \nFor questions or to confirm attendance\, contact: Raul Lorenzo – LorenzR@SCF.edu
URL:https://www.scf.edu/events/28th-annual-crop-awards-ceremony/
LOCATION:SCF Neel Performing Arts Center\, Bldg. 11 East\, 5840 26th St. West\, Bldg. 11 East\, Bradenton\, FL\, 34207\, United States
CATEGORIES:CROP Awards Ceremony
ATTACH;FMTTYPE=image/jpeg:https://www.scf.edu/wp-content/uploads/2026/04/2026-CROP-Web-Graphic-FINAL_02_24_26.jpg
ORGANIZER;CN="State College of Florida%2C Manatee - Sarasota":MAILTO:Info@SCF.edu
END:VEVENT
END:VCALENDAR